BEGIN:VCALENDAR
VERSION:2.0
PRODID:-//aspekte SALZBURG - ECPv6.15.14//NONSGML v1.0//EN
CALSCALE:GREGORIAN
METHOD:PUBLISH
X-WR-CALNAME:aspekte SALZBURG
X-ORIGINAL-URL:https://aspekte-salzburg.com
X-WR-CALDESC:Veranstaltungen für aspekte SALZBURG
REFRESH-INTERVAL;VALUE=DURATION:PT1H
X-Robots-Tag:noindex
X-PUBLISHED-TTL:PT1H
BEGIN:VTIMEZONE
TZID:Europe/Vienna
BEGIN:DAYLIGHT
TZOFFSETFROM:+0100
TZOFFSETTO:+0200
TZNAME:CEST
DTSTART:20250330T010000
END:DAYLIGHT
BEGIN:STANDARD
TZOFFSETFROM:+0200
TZOFFSETTO:+0100
TZNAME:CET
DTSTART:20251026T010000
END:STANDARD
BEGIN:DAYLIGHT
TZOFFSETFROM:+0100
TZOFFSETTO:+0200
TZNAME:CEST
DTSTART:20260329T010000
END:DAYLIGHT
BEGIN:STANDARD
TZOFFSETFROM:+0200
TZOFFSETTO:+0100
TZNAME:CET
DTSTART:20261025T010000
END:STANDARD
BEGIN:DAYLIGHT
TZOFFSETFROM:+0100
TZOFFSETTO:+0200
TZNAME:CEST
DTSTART:20270328T010000
END:DAYLIGHT
BEGIN:STANDARD
TZOFFSETFROM:+0200
TZOFFSETTO:+0100
TZNAME:CET
DTSTART:20271031T010000
END:STANDARD
END:VTIMEZONE
BEGIN:VEVENT
DTSTART;TZID=Europe/Vienna:20260311T173000
DTEND;TZID=Europe/Vienna:20260311T183000
DTSTAMP:20260421T120147
CREATED:20251227T170317Z
LAST-MODIFIED:20260311T180744Z
UID:7478-1773250200-1773253800@aspekte-salzburg.com
SUMMARY:aspekte 1: Atelier Gespräch
DESCRIPTION:Mitwirkende: \nSabine Coelsch-Foisner (Universität Salzburg) im Gespräch mit dem künstlerischen Leiter des aspekteFESTIVAL Ludwig Nussbichler\, den Komponist:innen Johannes Maria Staud und Alexandra Karastoyanova-Hermentin (Trägerin des Großen Kunstpreises des Landes Salzburg) sowie Claus Friede (Kurator\, Autor und Lehrender an der Hochschule für Musik und Theater\, Hamburg / Institut für Kultur und Medienmanagement). \nProgramm: \nBegriffe wie Pulsschlag\, Pulsfrequenz und Pulszahl sind Indiz zeitlicher Wahrnehmung und Verkörperlichung. Wenn wir «PULS» als Figuration von Zeit verstehen\, dann knüpft sich daran unweigerlich eine Kritik an deren Universalität und objektiver Messbarkeit\, wie sie darstellende und performative Kunst\, Literatur und Musik besonders seit dem späten 19. Jahrhundert\, im Modernismus sowie in der Postmoderne und heute in vielfältigsten Zeitdehnungen\, filmischen Überlappungen\, Reisen und Rückwärtsbewegungen\, sowie in Pausen und im (scheinbaren) Stillstand ausloten. Allein figurative Redewendungen wie „der Puls jagt“ oder „am Puls der Zeit“ verweisen auf unterschiedliche physiologische Wahrnehmungen von Zeit\, Bewegung\, Wandel und Veränderung bis zum Ende der Zeit\, ebenso wie auf deren kulturelle Verfasstheit. Als elementare Erfahrung\, ja\, Voraussetzung von Leben\, wie sie diesem Festival als Inspiration diente\, eröffnet der Begriff «PULS» ein vielfältiges Spektrum an musikalischen Bewegungen\, Empfindungen und emotionalen Assoziationen. Gemeinsam mit den Komponist:innen des Eröffnungskonzerts des Münchener Kammerorchesters will das Atelier Gespräch den Impulsen zeitgenössischer Kompositionen nachspüren und ihren Puls fühlen.
URL:https://aspekte-salzburg.com/konzert/aspekte-1-atelier-gespraech/
LOCATION:Stiftung Mozarteum\, Villa Vicina\, Schwarzstraße 30\, Salzburg\, 5020\, Austria
CATEGORIES:Aspekte 2026
ATTACH;FMTTYPE=image/jpeg:https://aspekte-salzburg.com/wp-content/uploads/2026/01/fvs_copy2_Uni_ROT_.jpg
ORGANIZER;CN="aspekteSALZBURG":MAILTO:office@aspekte-salzburg.at
END:VEVENT
END:VCALENDAR