BEGIN:VCALENDAR
VERSION:2.0
PRODID:-//aspekte SALZBURG - ECPv6.15.14//NONSGML v1.0//EN
CALSCALE:GREGORIAN
METHOD:PUBLISH
X-WR-CALNAME:aspekte SALZBURG
X-ORIGINAL-URL:https://aspekte-salzburg.com
X-WR-CALDESC:Veranstaltungen für aspekte SALZBURG
REFRESH-INTERVAL;VALUE=DURATION:PT1H
X-Robots-Tag:noindex
X-PUBLISHED-TTL:PT1H
BEGIN:VTIMEZONE
TZID:Europe/Vienna
BEGIN:DAYLIGHT
TZOFFSETFROM:+0100
TZOFFSETTO:+0200
TZNAME:CEST
DTSTART:20250330T010000
END:DAYLIGHT
BEGIN:STANDARD
TZOFFSETFROM:+0200
TZOFFSETTO:+0100
TZNAME:CET
DTSTART:20251026T010000
END:STANDARD
BEGIN:DAYLIGHT
TZOFFSETFROM:+0100
TZOFFSETTO:+0200
TZNAME:CEST
DTSTART:20260329T010000
END:DAYLIGHT
BEGIN:STANDARD
TZOFFSETFROM:+0200
TZOFFSETTO:+0100
TZNAME:CET
DTSTART:20261025T010000
END:STANDARD
BEGIN:DAYLIGHT
TZOFFSETFROM:+0100
TZOFFSETTO:+0200
TZNAME:CEST
DTSTART:20270328T010000
END:DAYLIGHT
BEGIN:STANDARD
TZOFFSETFROM:+0200
TZOFFSETTO:+0100
TZNAME:CET
DTSTART:20271031T010000
END:STANDARD
END:VTIMEZONE
BEGIN:VEVENT
DTSTART;TZID=Europe/Vienna:20260315T184500
DTEND;TZID=Europe/Vienna:20260315T203000
DTSTAMP:20260421T110014
CREATED:20251227T172334Z
LAST-MODIFIED:20260314T205539Z
UID:7495-1773600300-1773606600@aspekte-salzburg.com
SUMMARY:aspekte 11: Secret Theatre
DESCRIPTION:Mitwirkende: \nœnm . œsterreichisches ensemble fuer neue musik \nJohannes Kalitzke\, Dirigent \nAhran Kim\, Flöte\nMarkus Sepperer\, Oboe\nTheodor Burkali\, Klarinette/Bassklarinette\nŽarko Perišić\, Fagott\nDavid Fliri\, Horn\nDavid Schmidt\, Trompete\nŽan Kopše\, Posaune\nJacobo Hernández Enríquez\, Violine 1\nLorenzo Derrini\, Violine 2\nJutas Jávorka\, Viola\nTomasz Skweres\, Cello\nPaul Georg Salomon\, Kontrabass\nNora Skuta\, Klavier\nKarin Küstner\, Akkordeon\nRupert Struber\, Percussion 1\nSebastian Forster\, Percussion 2\nGiovanni Cisternino\, Gitarre \nProgramm: \n\nJakob Gruchmann\, Dickicht für Flöte/Bassflöte\, Bassklarinette\, Klavier\, Violine und Violoncello (2020)\nHerbert Grassl\, Stille – Chaconne (Verschiebungen) op. 174 (2025\, UA) – dem œnm gewidmet\nFabián Panisello\, Seven Japanese Sketches für Oboe und Streichquartett (2023)\nI Okichi and Tsutsumatsu’s Insights – II Bonsho – III Madrigal I – IV Imaginary Song – V Madrigal 2 – VI Maiko Song – VII Wind\nHarrison Birtwistle\, Secret Theatre für Kammerensemble (1984)\n\n  \nHarrison Birtwistle bezeichnete sein Secret Theatre als „instrumentales Rollenspiel“\, es sei „wie ein Theaterstück mit Figuren“. Auch Jakob Gruchmann verleiht in Dickicht den einzelnen Instrumenten eine solistische Rolle\, indem sie aus der „kollektiven Aktion“ heraustreten\, was er zur „dramaturgischen Verflechtung einzelner Klangfarbenfragmente“ nützt – ein „Spiel mit kompositorischer Filigranität und Zerbrechlichkeit“. Fabián Panisello überträgt den betörenden Klang japanischer Instrumente auf westliche und mit Stille – Chaconne (Verschiebungen) op. 174 bringt das œnm ein neues Werk seines langjährigen Leiters (1988-97) Herbert Grassl zur Uraufführung.
URL:https://aspekte-salzburg.com/konzert/aspekte-11-oenm/
LOCATION:Universität Mozarteum Solitär\, Mirabellplatz 1\, Salzburg\, 5020\, Austria
CATEGORIES:Aspekte 2026
ATTACH;FMTTYPE=image/jpeg:https://aspekte-salzburg.com/wp-content/uploads/2025/12/oenm-.-oesterreichisches-ensemble-fuer-neue-musik_25-©-oenm_Florian-Voggenender6-scaled.jpg
ORGANIZER;CN="aspekteSALZBURG":MAILTO:office@aspekte-salzburg.at
END:VEVENT
END:VCALENDAR