BEGIN:VCALENDAR
VERSION:2.0
PRODID:-//aspekte SALZBURG - ECPv6.15.14//NONSGML v1.0//EN
CALSCALE:GREGORIAN
METHOD:PUBLISH
X-WR-CALNAME:aspekte SALZBURG
X-ORIGINAL-URL:https://aspekte-salzburg.com
X-WR-CALDESC:Veranstaltungen für aspekte SALZBURG
REFRESH-INTERVAL;VALUE=DURATION:PT1H
X-Robots-Tag:noindex
X-PUBLISHED-TTL:PT1H
BEGIN:VTIMEZONE
TZID:Europe/Vienna
BEGIN:DAYLIGHT
TZOFFSETFROM:+0100
TZOFFSETTO:+0200
TZNAME:CEST
DTSTART:20250330T010000
END:DAYLIGHT
BEGIN:STANDARD
TZOFFSETFROM:+0200
TZOFFSETTO:+0100
TZNAME:CET
DTSTART:20251026T010000
END:STANDARD
BEGIN:DAYLIGHT
TZOFFSETFROM:+0100
TZOFFSETTO:+0200
TZNAME:CEST
DTSTART:20260329T010000
END:DAYLIGHT
BEGIN:STANDARD
TZOFFSETFROM:+0200
TZOFFSETTO:+0100
TZNAME:CET
DTSTART:20261025T010000
END:STANDARD
BEGIN:DAYLIGHT
TZOFFSETFROM:+0100
TZOFFSETTO:+0200
TZNAME:CEST
DTSTART:20270328T010000
END:DAYLIGHT
BEGIN:STANDARD
TZOFFSETFROM:+0200
TZOFFSETTO:+0100
TZNAME:CET
DTSTART:20271031T010000
END:STANDARD
END:VTIMEZONE
BEGIN:VEVENT
DTSTART;TZID=Europe/Vienna:20260311T190000
DTEND;TZID=Europe/Vienna:20260311T201500
DTSTAMP:20260421T104911
CREATED:20251227T165717Z
LAST-MODIFIED:20260311T181030Z
UID:7471-1773255600-1773260100@aspekte-salzburg.com
SUMMARY:aspekte 2: Eröffnungskonzert
DESCRIPTION:Mitwirkende: \nMünchener Kammerorchester \nBas Wiegers\, Dirigent \nProgramm: \n\nClaude Vivier\, Zipangu (1989)\nSara Glojnarić\, Everything\, Always für Streichorchester und fixed media (2022)\nJohannes Maria Staud\, Stachel (2025\, ÖEA)\nAlexandra Karastoyanova-Hermentin\, Breah für Orchester\, Auftragswerk der aspekteSALZBURG\, gefördert von SKE und Stadt Wien (2025/26\, UA)\n\n  \nDas Münchner Kammerorchester eröffnet das aspekteFESTIVAL mit einem Auftragswerk an Alexandra Karastoyanova-Hermentin und einer Reise quer durch ästhetische Landschaften: In Zipangu („Japan“ zu Marco Polos Zeiten) experimentiert Claude Vivier mit Klangfarben und Bogentechniken\, das erste Werk nach einer prägenden Asienreise im Jahr 1976 des kanadischen Komponisten. Geprägt von seinem Lehrer Karlheinz Stockhausen\, ist Zipangu auch eine klangliche Reflexion über fernöstliche Kulturen. Als „bruitistische und verhauchende Musiklandschaften“ beschreibt Johannes Maria Staud Abschnitte von Stachel\, es sind „unterschiedliche Aggregatzustände“\, durch die man wie „auf einer Reise oder Wanderschaft durch die Nacht“ schreitet. Die kroatische Komponistin Sara Glojnarić nimmt das Publikum auf eine Reise in ihre Kompositionswerkstatt mit. Mit Everything\, Always habe sie eine „hybride Form“ schaffen wollen\, „zwischen Musiktheater\, Scripted Reality und konzertantem Stück“. Dabei geht es ihr um einen „uneingeschränkten Blick direkt in die Denkwelt einer Komponistin“ – für das Publikum und die Musiker:innen. Glojnarićs Stimme wird zugespielt\, als Kommentare zu ihrem eigenen Werk: lustig\, überraschend und sehr persönlich.
URL:https://aspekte-salzburg.com/konzert/aspekte-2-muenchener-kammerorchester/
LOCATION:Stiftung Mozarteum\, Großer Saal\, Schwarzstraße 28\, Salzburg\, 5020
CATEGORIES:Aspekte 2026
ATTACH;FMTTYPE=image/png:https://aspekte-salzburg.com/wp-content/uploads/2025/12/MKO_Muenchener-Kammerorchester_Orchester_credit-Daniel-Delang-16.9-1.png
ORGANIZER;CN="aspekteSALZBURG":MAILTO:office@aspekte-salzburg.at
END:VEVENT
END:VCALENDAR