BEGIN:VCALENDAR
VERSION:2.0
PRODID:-//aspekte SALZBURG - ECPv6.15.14//NONSGML v1.0//EN
CALSCALE:GREGORIAN
METHOD:PUBLISH
X-WR-CALNAME:aspekte SALZBURG
X-ORIGINAL-URL:https://aspekte-salzburg.com
X-WR-CALDESC:Veranstaltungen für aspekte SALZBURG
REFRESH-INTERVAL;VALUE=DURATION:PT1H
X-Robots-Tag:noindex
X-PUBLISHED-TTL:PT1H
BEGIN:VTIMEZONE
TZID:Europe/Paris
BEGIN:DAYLIGHT
TZOFFSETFROM:+0100
TZOFFSETTO:+0200
TZNAME:CEST
DTSTART:20210328T010000
END:DAYLIGHT
BEGIN:STANDARD
TZOFFSETFROM:+0200
TZOFFSETTO:+0100
TZNAME:CET
DTSTART:20211031T010000
END:STANDARD
BEGIN:DAYLIGHT
TZOFFSETFROM:+0100
TZOFFSETTO:+0200
TZNAME:CEST
DTSTART:20220327T010000
END:DAYLIGHT
BEGIN:STANDARD
TZOFFSETFROM:+0200
TZOFFSETTO:+0100
TZNAME:CET
DTSTART:20221030T010000
END:STANDARD
BEGIN:DAYLIGHT
TZOFFSETFROM:+0100
TZOFFSETTO:+0200
TZNAME:CEST
DTSTART:20230326T010000
END:DAYLIGHT
BEGIN:STANDARD
TZOFFSETFROM:+0200
TZOFFSETTO:+0100
TZNAME:CET
DTSTART:20231029T010000
END:STANDARD
END:VTIMEZONE
BEGIN:VEVENT
DTSTART;TZID=Europe/Paris:20220316T210000
DTEND;TZID=Europe/Paris:20220316T220000
DTSTAMP:20260421T110056
CREATED:20220113T191438Z
LAST-MODIFIED:20251120T154011Z
UID:4349-1647464400-1647468000@aspekte-salzburg.com
SUMMARY:aspekte 3 | Fury | œnm
DESCRIPTION:Programm:\n· Alexandra Karastoyanova-Hermentin\, Remix für 8 Instrumente (2022\, UA) \n· Rebecca Saunders\, Fury II für Kontrabass und 5 Instrumente (Kontrabass solo\, Bassklarinette\, Perkussion\, Akkordeon\, Klavier\, Violoncello) (2009) \n· Sara Glojnarić\, sugarcoating (v3.0) für Flöte\, Oboe\, Klarinette\, Saxophon\, Perkussion\, Klavier\, Violine\, Viola\, Violoncello (2017/20) \n· Gérard Grisey\, Périodes für sieben Musiker (Flöte\, Klarinette\, Posaune\, Violine\, Viola\, Violoncello und Kontrabass) (1974) \nDie innere Struktur des Klanges und deren Übertragung auf komponierte Musik ist ein Ansatz der Spektralmusik\, die damit unvergleichliche Hörerlebnisse schafft. Sinnliche Wahrnehmung steht auch im Zentrum von Gérard Griseys „Périodes“ (1974)\, Teil seiner meisterhaften „Espaces Acoustiques“\, die er aus einem sezierten Posaunenton erstehen lässt. Fasziniert von den „tiefen Klängen und den zahlreichen perkussiven Möglichkeiten eines Kontrabasses mit seiner expliziten Körperlichkeit“ hat Rebecca Saunders „Fury II“ („Wild“) für Solo-Bass und fünf Instrumente geschrieben. Die Preisträgerin des renommierten Erste Bank Kompositionspreises 2022\, Sara Glojnarić\, lässt in ihre Musik gesellschaftspolitische Beobachtungen genauso einfließen wie eine zeitgemäße Kunstauffassung ohne Abgrenzung von etwaigen Kategorisierungen. Mit dem neuen Werk von Alexandra Karastoyanova-Hermentin umfasst dieses Konzert 50 Jahre Musikschaffen! \nMit:\noenm . oesterreichisches ensemble fuer neue musik\nMichael Seifried\, Kontrabass\nLars Mlekusch\, Dirigent
URL:https://aspekte-salzburg.com/konzert/aspekte-3-2022-fury/
LOCATION:Solitär\, Universität Mozarteum\, Mirabellplatz 1\, Salzburg\, 5020\, Österreich
CATEGORIES:Aspekte 2022
ATTACH;FMTTYPE=image/jpeg:https://aspekte-salzburg.com/wp-content/uploads/2020/09/oenm_1-c-Andreas-Hechenberger-und-Markus-Sepperer-e1642106166168.jpg
END:VEVENT
END:VCALENDAR