BEGIN:VCALENDAR
VERSION:2.0
PRODID:-//aspekte SALZBURG - ECPv6.15.14//NONSGML v1.0//EN
CALSCALE:GREGORIAN
METHOD:PUBLISH
X-WR-CALNAME:aspekte SALZBURG
X-ORIGINAL-URL:https://aspekte-salzburg.com
X-WR-CALDESC:Veranstaltungen für aspekte SALZBURG
REFRESH-INTERVAL;VALUE=DURATION:PT1H
X-Robots-Tag:noindex
X-PUBLISHED-TTL:PT1H
BEGIN:VTIMEZONE
TZID:Europe/Paris
BEGIN:DAYLIGHT
TZOFFSETFROM:+0100
TZOFFSETTO:+0200
TZNAME:CEST
DTSTART:20210328T010000
END:DAYLIGHT
BEGIN:STANDARD
TZOFFSETFROM:+0200
TZOFFSETTO:+0100
TZNAME:CET
DTSTART:20211031T010000
END:STANDARD
BEGIN:DAYLIGHT
TZOFFSETFROM:+0100
TZOFFSETTO:+0200
TZNAME:CEST
DTSTART:20220327T010000
END:DAYLIGHT
BEGIN:STANDARD
TZOFFSETFROM:+0200
TZOFFSETTO:+0100
TZNAME:CET
DTSTART:20221030T010000
END:STANDARD
BEGIN:DAYLIGHT
TZOFFSETFROM:+0100
TZOFFSETTO:+0200
TZNAME:CEST
DTSTART:20230326T010000
END:DAYLIGHT
BEGIN:STANDARD
TZOFFSETFROM:+0200
TZOFFSETTO:+0100
TZNAME:CET
DTSTART:20231029T010000
END:STANDARD
END:VTIMEZONE
BEGIN:VEVENT
DTSTART;TZID=Europe/Paris:20220318T193000
DTEND;TZID=Europe/Paris:20220318T203000
DTSTAMP:20260421T110014
CREATED:20220113T191403Z
LAST-MODIFIED:20251120T154004Z
UID:4345-1647631800-1647635400@aspekte-salzburg.com
SUMMARY:aspekte 5 | That Time | Trio Accanto
DESCRIPTION:Programm:\n· Eivind Buene\, Personal Best für Trio Accanto und Live Electronik (2021)\n· Misato Mochizuki\, Satellites für Sopransaxophon\, Perkussion und Klavier (2019/20)\n· Rebecca Saunders\, That Time für Baritonsaxophon\, Perkussion und Klavier (2019) \nDrei große Werke\, die dem legendären Trio Accanto gewidmet sind\, das mit seiner ganz speziellen Besetzung mit Schlagwerk\, Saxophon und Klavier Musikgeschichte geschrieben hat: Die drei hervorragenden Musiker haben in ihrer langen Zusammenarbeit Komponist*innen inspiriert und unzählige Werke uraufgeführt. Der norwegische Komponist Eivind Buene hat nun die musikalischen und persönlichen Biografien der drei Mitglieder erfragt und aus diesem Material Klänge auf Schallplatte gepresst. Ebenfalls ganz neu und in dieser Fassung gerade erst bei den Donaueschinger Musiktagen 2021 uraufgeführt\, ist Rebecca Saunders’ „That Time“\, wie so oft\, inspiriert von Samuel Beckett. Eine Hommage an das Trio Accanto\, dem man „nicht nur seine technische Sicherheit\, sondern auch spielerische Freude in jedem Takt anhört“\, wie der Bayerische Rundfunk konstatiert. \nMit:\nTrio Accanto
URL:https://aspekte-salzburg.com/konzert/aspekte-5-2022-that-time/
LOCATION:Solitär\, Universität Mozarteum\, Mirabellplatz 1\, Salzburg\, 5020\, Österreich
CATEGORIES:Aspekte 2022
ATTACH;FMTTYPE=image/jpeg:https://aspekte-salzburg.com/wp-content/uploads/2022/01/Trio-Accanto-2_c-Marc-Doradzillo-e1642108030280.jpg
END:VEVENT
END:VCALENDAR