BEGIN:VCALENDAR
VERSION:2.0
PRODID:-//aspekte SALZBURG - ECPv6.15.14//NONSGML v1.0//EN
CALSCALE:GREGORIAN
METHOD:PUBLISH
X-WR-CALNAME:aspekte SALZBURG
X-ORIGINAL-URL:https://aspekte-salzburg.com
X-WR-CALDESC:Veranstaltungen für aspekte SALZBURG
REFRESH-INTERVAL;VALUE=DURATION:PT1H
X-Robots-Tag:noindex
X-PUBLISHED-TTL:PT1H
BEGIN:VTIMEZONE
TZID:Europe/Vienna
BEGIN:DAYLIGHT
TZOFFSETFROM:+0100
TZOFFSETTO:+0200
TZNAME:CEST
DTSTART:20250330T010000
END:DAYLIGHT
BEGIN:STANDARD
TZOFFSETFROM:+0200
TZOFFSETTO:+0100
TZNAME:CET
DTSTART:20251026T010000
END:STANDARD
BEGIN:DAYLIGHT
TZOFFSETFROM:+0100
TZOFFSETTO:+0200
TZNAME:CEST
DTSTART:20260329T010000
END:DAYLIGHT
BEGIN:STANDARD
TZOFFSETFROM:+0200
TZOFFSETTO:+0100
TZNAME:CET
DTSTART:20261025T010000
END:STANDARD
BEGIN:DAYLIGHT
TZOFFSETFROM:+0100
TZOFFSETTO:+0200
TZNAME:CEST
DTSTART:20270328T010000
END:DAYLIGHT
BEGIN:STANDARD
TZOFFSETFROM:+0200
TZOFFSETTO:+0100
TZNAME:CET
DTSTART:20271031T010000
END:STANDARD
END:VTIMEZONE
BEGIN:VEVENT
DTSTART;TZID=Europe/Vienna:20260312T184500
DTEND;TZID=Europe/Vienna:20260312T200000
DTSTAMP:20260421T105600
CREATED:20251227T164322Z
LAST-MODIFIED:20260312T180930Z
UID:7457-1773341100-1773345600@aspekte-salzburg.com
SUMMARY:aspekte 4: (im)Pulse
DESCRIPTION:Mitwirkende: \nNAMES – New Art and Music Ensemble Salzburg\nMarina Iglesias\, Flöte\nAnna Lindenbaum\, Violine\nMatthias Leboucher\, Tasteninstrumente\nAlexander Bauer\, Tasteninstrumente\nŠpela Mastnak\, Schlagzeug\nMarco Döttlinger\, Klangregie \nProgramm: \n\nBernhard Lang\, DW31 „Loops for Edgar Froese“ (2017)\nPeter Ablinger\, Regenstück 1–6 (1993)\nMatthias Leboucher\, five seconds from impact für Violine\, Flöte\, Vibraphon\, Synthesizer\, E-Orgel\, Live-Elektronik und Lichtsystem – Auftragswerk der aspekteSALZBURG (2026\, UA) – support by SKE\nAnton Lindström\, NELSON für Quintett für 8-Hand Korg BX-3 (Gen 1) und akustische Stahlseitengitarre – Auftragswerk der aspekteSALZBURG (2026\, UA)\n\n \nZwei Pianisten in Interaktion mit einem superschnellen Playback-Track als Hommage an Edgar Froese\, Frontman der legendären Elektronikband Tangerine Dream – das ist Bernhard Langs DW 31. Minimalistische Spielanweisungen gab der 2025 verstorbene Peter Ablinger in seinem Regenstück: 6 Click-Tracks in unterschiedlichen Metren\, jeder Teil soll an beginnenden Regen erinnern\, statt Instrumenten wählen die Musiker etwa Fundstücke aus der Natur. Das New Art and Music Ensemble Salzburg kombiniert diese beiden Klassiker der Gegenwart mit zwei Auftragswerken: an sein Gründungsmitglied Matthias Leboucher und den Elektroniker Anton Rune Lindström.
URL:https://aspekte-salzburg.com/konzert/aspekte-5-names/
LOCATION:Szene Salzburg\, Anton-Neumayr-Platz 2\, Salzburg\, 5020\, Österreich
CATEGORIES:Aspekte 2026
ATTACH;FMTTYPE=image/jpeg:https://aspekte-salzburg.com/wp-content/uploads/2025/12/NAMES_SUJET_2©Bernhard_Mueller.jpg
ORGANIZER;CN="aspekteSALZBURG":MAILTO:office@aspekte-salzburg.at
END:VEVENT
END:VCALENDAR