BEGIN:VCALENDAR
VERSION:2.0
PRODID:-//aspekte SALZBURG - ECPv6.15.14//NONSGML v1.0//EN
CALSCALE:GREGORIAN
METHOD:PUBLISH
X-WR-CALNAME:aspekte SALZBURG
X-ORIGINAL-URL:https://aspekte-salzburg.com
X-WR-CALDESC:Veranstaltungen für aspekte SALZBURG
REFRESH-INTERVAL;VALUE=DURATION:PT1H
X-Robots-Tag:noindex
X-PUBLISHED-TTL:PT1H
BEGIN:VTIMEZONE
TZID:Europe/Paris
BEGIN:DAYLIGHT
TZOFFSETFROM:+0100
TZOFFSETTO:+0200
TZNAME:CEST
DTSTART:20230326T010000
END:DAYLIGHT
BEGIN:STANDARD
TZOFFSETFROM:+0200
TZOFFSETTO:+0100
TZNAME:CET
DTSTART:20231029T010000
END:STANDARD
BEGIN:DAYLIGHT
TZOFFSETFROM:+0100
TZOFFSETTO:+0200
TZNAME:CEST
DTSTART:20240331T010000
END:DAYLIGHT
BEGIN:STANDARD
TZOFFSETFROM:+0200
TZOFFSETTO:+0100
TZNAME:CET
DTSTART:20241027T010000
END:STANDARD
BEGIN:DAYLIGHT
TZOFFSETFROM:+0100
TZOFFSETTO:+0200
TZNAME:CEST
DTSTART:20250330T010000
END:DAYLIGHT
BEGIN:STANDARD
TZOFFSETFROM:+0200
TZOFFSETTO:+0100
TZNAME:CET
DTSTART:20251026T010000
END:STANDARD
END:VTIMEZONE
BEGIN:VEVENT
DTSTART;TZID=Europe/Paris:20240309T170000
DTEND;TZID=Europe/Paris:20240309T183000
DTSTAMP:20260421T120212
CREATED:20240109T084509Z
LAST-MODIFIED:20251120T153836Z
UID:4739-1710003600-1710009000@aspekte-salzburg.com
SUMMARY:aspekte 6 | Konzert: aspekteSPIELRÄUME - Preisverleihung Jugend komponiert und aspekteSONDERPREIS
DESCRIPTION:Preisträger:innen Jugend komponiert und aspekteSONDERPREIS mit Preisverleihung \n\n\n· Witold Lutoslawski (1913–1994)\, „Subito für Violine und Klavier“\nSophia Nagl\, Violine\nPatrick Leung\, Klavier \n· Preisträger:innenstück „Jugend komponiert“\nChristina Schorn-Mancinelli\, Gitarre\nYvonne Zehner\, Gitarre \n· Preisträger:innenstück „Jugend komponiert“ w.o. \n· Jörg Widmann (*1973)\, aus „11 Humoresken“: Nr. 4 Waldszene und Nr. 5 Choral\nMadita Warter\, Klavier \n· Minas Borboudakis (*1974)\, „Zwischenstücke“: III. „Funky Mosquito (Ting-ting-titing)“\nSophia Schernthaner\, Gitarre \n· Antón García Abril (1933–2021)\, „Tercer Suspiro (Third Sigh)“\nHansine Pellbäck\, Violine\nPatrick Leung\, Klavier \n· Preisträger:innenstück „Jugend komponiert“ w.o. \n· Preisträger:innenstück „Jugend komponiert“ w.o. \nPreisverleihung \n· Pierre Boulez (1925–2016)\, „Une page d‘éphéméride“ for Piano\nHo Farn Cheng\, Klavier \nFreie Platzwahl! \nTickets sind erhältlich unter: www.ticket.re-creation.at \nHier können Sie das ausführliche Programmheft mit alle Biografien downloaden! \nDie Interpret:innen und ihre Lehrer:innen\nSophia Nagl – Michaela Girardi\, Universität Mozarteum\nMadita Warter – Johannes Wilhelm\, Universität Mozarteum\nSophia Schernthaner – Antigoni Baxe\, Musikum Salzburg\nHansine Pellbäck – Michaela Girardi\, Universität Mozarteum\nHo Farn Cheng – Georg Steinschaden\, Universität Mozarteum \n\nDie aspekteSPIELRÄUME verstehen sich als ein zentrales Projekt der aspekteSALZBURG\, bei dem der musikalische Nachwuchs im Mittelpunkt steht. Über das Finale des Wettbewerbs „Jugend komponiert“ hinaus – dessen Preisträgerstücke in diesem Konzert zu hören sind – fördert der Verein aspekteSALZBURG jugendliche Interpret:innen von Neuer Musik. Dazu wurde der Aspekte Sonderpreis bei prima la musica Salzburg ins Leben gerufen\, eine Anerkennung\, mit der bislang zahlreiche vielversprechende junge Musiker:innen ausgezeichnet wurden. Der Auftritt in professionellem Rahmen mit einem anspruchsvollen Programm mit Musik unserer Zeit hat für die jungen Musiker:innen einen hohen Stellenwert. Seit vielen Jahren findet das Finale von „Jugend komponiert“ bei den aspekteSPIELRÄUMEN statt und so wird erfolgreich und nachhaltig mit der AUSTRIAN COMPOSERS ASSOCIATION und Musik der Jugend zusammengearbeitet.\nJedenfalls ist es bemerkenswert\, mit welchem Selbstverständnis\, welchem technischen und musikalischen Vermögen die jungen Interpret:innen Zugang zur Neuen Musik finden und auf welch hohem Niveau in Österreich junge Menschen komponieren – auch ein Zeugnis für die großartige pädagogisch-künstlerischen Arbeit der Lehrenden. \n\n\nIn Kooperation mit: \n\n\n\n\n			\n				\n			\n			\n				\n			\n			\n				\n			\n			\n				\n			\n		\n\n\n 
URL:https://aspekte-salzburg.com/konzert/aspekte-6-konzert-aspektespielraeume/
LOCATION:Kleines Studio\, Universität Mozarteum\, Mirabellplatz 1\, Salzburg\, 5020\, Österreich
CATEGORIES:Aspekte 2024
ATTACH;FMTTYPE=image/jpeg:https://aspekte-salzburg.com/wp-content/uploads/2022/01/wrongtog-yGev6dhHSY8-unsplash-scaled-e1707813661302.jpg
END:VEVENT
END:VCALENDAR