BEGIN:VCALENDAR
VERSION:2.0
PRODID:-//aspekte SALZBURG - ECPv6.15.14//NONSGML v1.0//EN
CALSCALE:GREGORIAN
METHOD:PUBLISH
X-WR-CALNAME:aspekte SALZBURG
X-ORIGINAL-URL:https://aspekte-salzburg.com
X-WR-CALDESC:Veranstaltungen für aspekte SALZBURG
REFRESH-INTERVAL;VALUE=DURATION:PT1H
X-Robots-Tag:noindex
X-PUBLISHED-TTL:PT1H
BEGIN:VTIMEZONE
TZID:Europe/Vienna
BEGIN:DAYLIGHT
TZOFFSETFROM:+0100
TZOFFSETTO:+0200
TZNAME:CEST
DTSTART:20250330T010000
END:DAYLIGHT
BEGIN:STANDARD
TZOFFSETFROM:+0200
TZOFFSETTO:+0100
TZNAME:CET
DTSTART:20251026T010000
END:STANDARD
BEGIN:DAYLIGHT
TZOFFSETFROM:+0100
TZOFFSETTO:+0200
TZNAME:CEST
DTSTART:20260329T010000
END:DAYLIGHT
BEGIN:STANDARD
TZOFFSETFROM:+0200
TZOFFSETTO:+0100
TZNAME:CET
DTSTART:20261025T010000
END:STANDARD
BEGIN:DAYLIGHT
TZOFFSETFROM:+0100
TZOFFSETTO:+0200
TZNAME:CEST
DTSTART:20270328T010000
END:DAYLIGHT
BEGIN:STANDARD
TZOFFSETFROM:+0200
TZOFFSETTO:+0100
TZNAME:CET
DTSTART:20271031T010000
END:STANDARD
END:VTIMEZONE
BEGIN:VEVENT
DTSTART;TZID=Europe/Vienna:20260314T184500
DTEND;TZID=Europe/Vienna:20260314T200000
DTSTAMP:20260421T121833
CREATED:20251227T171018Z
LAST-MODIFIED:20260314T205446Z
UID:7486-1773513900-1773518400@aspekte-salzburg.com
SUMMARY:aspekte 8: Epicentre
DESCRIPTION:Mitwirkende: \nMotus Percussion\nChristoph Sietzen\, Percussion\nNico Gerstmayer\, Percussion\nVincenzo Caschetto\, Percussion\nJakob Mancinelli\, Percussion\nMaria Monleón\, Percussion\nLeonhard Schmidinger\, Percussion \nProgramm: \n\nGeorges Aperghis\, Kryptogramma für sechs Perkussionisten (1970)\nMaki Ishii\, Thirteen Drums (1985)\nGraciela Paraskevaídis\, hacen así für sechs Perkussionisten (1996)\nJohannes Maria Staud\, Epicentre für Schlagzeugtrio (2019/2020)\n\n  \n„Motus“ bedeutet (Körper)Bewegung\, Tanz\, geistige Tätigkeit und einiges mehr – all das vereint das Motus Percussion Ensemble in seinem Konzert. Johannes Maria Staud lässt in Epicentre drei Schlagzeuger zwischen den Setups wechseln und legt in jedem der drei Teile den Fokus auf ein anderes Klangmaterial: Fell\, Metall und Holz. Bei Georges Aperghis hat Musik immer auch theatrale Aspekte\, Maki Ishii demonstriert in seinem Solo-Stück Thirteen Drums die klangliche Vielfalt von Trommeln und die gebürtige Argentinierin Graciela Paraskevaídis hat ihren durch und durch archaischen Zugang in hacen así für sechs Schlagwerker umgesetzt.
URL:https://aspekte-salzburg.com/konzert/aspekte-8-motus-percussion/
LOCATION:Szene Salzburg\, Anton-Neumayr-Platz 2\, Salzburg\, 5020\, Österreich
CATEGORIES:Aspekte 2026
ATTACH;FMTTYPE=image/jpeg:https://aspekte-salzburg.com/wp-content/uploads/2025/12/Motus-Percussion-©-Reinhard-Winkler-scaled.jpg
ORGANIZER;CN="aspekteSALZBURG":MAILTO:office@aspekte-salzburg.at
END:VEVENT
END:VCALENDAR