BEGIN:VCALENDAR
VERSION:2.0
PRODID:-//aspekte SALZBURG - ECPv6.15.14//NONSGML v1.0//EN
CALSCALE:GREGORIAN
METHOD:PUBLISH
X-WR-CALNAME:aspekte SALZBURG
X-ORIGINAL-URL:https://aspekte-salzburg.com
X-WR-CALDESC:Veranstaltungen für aspekte SALZBURG
REFRESH-INTERVAL;VALUE=DURATION:PT1H
X-Robots-Tag:noindex
X-PUBLISHED-TTL:PT1H
BEGIN:VTIMEZONE
TZID:Europe/Paris
BEGIN:DAYLIGHT
TZOFFSETFROM:+0100
TZOFFSETTO:+0200
TZNAME:CEST
DTSTART:20230326T010000
END:DAYLIGHT
BEGIN:STANDARD
TZOFFSETFROM:+0200
TZOFFSETTO:+0100
TZNAME:CET
DTSTART:20231029T010000
END:STANDARD
BEGIN:DAYLIGHT
TZOFFSETFROM:+0100
TZOFFSETTO:+0200
TZNAME:CEST
DTSTART:20240331T010000
END:DAYLIGHT
BEGIN:STANDARD
TZOFFSETFROM:+0200
TZOFFSETTO:+0100
TZNAME:CET
DTSTART:20241027T010000
END:STANDARD
BEGIN:DAYLIGHT
TZOFFSETFROM:+0100
TZOFFSETTO:+0200
TZNAME:CEST
DTSTART:20250330T010000
END:DAYLIGHT
BEGIN:STANDARD
TZOFFSETFROM:+0200
TZOFFSETTO:+0100
TZNAME:CET
DTSTART:20251026T010000
END:STANDARD
END:VTIMEZONE
BEGIN:VEVENT
DTSTART;TZID=Europe/Paris:20240309T200000
DTEND;TZID=Europe/Paris:20240309T210000
DTSTAMP:20260421T104935
CREATED:20231120T103744Z
LAST-MODIFIED:20251120T153830Z
UID:4743-1710014400-1710018000@aspekte-salzburg.com
SUMMARY:aspekte 8 | Konzert: VOKALINIO MENO TINKLAS – Spirits of the Wood
DESCRIPTION:Programm\nPauline Oliveros\, „Teach Yourself to Fly“ (1973)\nAgnė Mažulienė\, „Tykuma“ (2023/UA)\nChristian Wolff\, „Sticks“ (1969)\nRupert Huber\, „NANA“ (2023)\nGruppenimprovisation „Miško Dvasios“\nRobert Moran\, „Solenga“ (2023) \nMitwirkende\nVokalinio meno tinklas\nRupert Huber\, Stimme und Leitung\nDoris Huber\, Stimme und Coaching \n„Als Medium zwischen voneinander abgetrennten Wirklichkeiten“ hat der oberösterreichische Komponist und Dirigent Rupert Huber Musik einmal definiert. In seinem Selbstverständnis steht die Auseinandersetzung mit Gesangs-Ritualen von Schamanen in keinem Widerspruch zu dem Schaffen von Zeitgenossen\, sofern sie eine tiefere Erkenntnis transportieren. Mit der Kombination von Improvisation\, Stücken der amerikanischen 1968er Szene und neuen Werken öffnet er mit dem Ensemble Network die einnehmende Welt der Stimmen. \nFreie Platzwahl! \nTickets sind erhältlich unter: www.ticket.re-creation.at
URL:https://aspekte-salzburg.com/konzert/aspekte-9-konzert-ensemble-network-of-vocal-arts-vokalino-meno-tinklas/
LOCATION:Kollegienkirche\, Universitätsplatz 20\, Salzburg\, 5020\, Österreich
CATEGORIES:Aspekte 2024
ATTACH;FMTTYPE=image/jpeg:https://aspekte-salzburg.com/wp-content/uploads/2023/11/ecad96d5-f37a-454a-a765-876c6ed1acbc-scaled-e1709628315702.jpeg
END:VEVENT
END:VCALENDAR