BEGIN:VCALENDAR
VERSION:2.0
PRODID:-//aspekte SALZBURG - ECPv6.15.14//NONSGML v1.0//EN
CALSCALE:GREGORIAN
METHOD:PUBLISH
X-WR-CALNAME:aspekte SALZBURG
X-ORIGINAL-URL:https://aspekte-salzburg.com
X-WR-CALDESC:Veranstaltungen für aspekte SALZBURG
REFRESH-INTERVAL;VALUE=DURATION:PT1H
X-Robots-Tag:noindex
X-PUBLISHED-TTL:PT1H
BEGIN:VTIMEZONE
TZID:Europe/Vienna
BEGIN:DAYLIGHT
TZOFFSETFROM:+0100
TZOFFSETTO:+0200
TZNAME:CEST
DTSTART:20250330T010000
END:DAYLIGHT
BEGIN:STANDARD
TZOFFSETFROM:+0200
TZOFFSETTO:+0100
TZNAME:CET
DTSTART:20251026T010000
END:STANDARD
BEGIN:DAYLIGHT
TZOFFSETFROM:+0100
TZOFFSETTO:+0200
TZNAME:CEST
DTSTART:20260329T010000
END:DAYLIGHT
BEGIN:STANDARD
TZOFFSETFROM:+0200
TZOFFSETTO:+0100
TZNAME:CET
DTSTART:20261025T010000
END:STANDARD
BEGIN:DAYLIGHT
TZOFFSETFROM:+0100
TZOFFSETTO:+0200
TZNAME:CEST
DTSTART:20270328T010000
END:DAYLIGHT
BEGIN:STANDARD
TZOFFSETFROM:+0200
TZOFFSETTO:+0100
TZNAME:CET
DTSTART:20271031T010000
END:STANDARD
END:VTIMEZONE
BEGIN:VEVENT
DTSTART;TZID=Europe/Vienna:20260314T210000
DTEND;TZID=Europe/Vienna:20260314T221500
DTSTAMP:20260421T105658
CREATED:20251227T171713Z
LAST-MODIFIED:20260314T205509Z
UID:7490-1773522000-1773526500@aspekte-salzburg.com
SUMMARY:aspekte 9: Next Generation
DESCRIPTION:Mitwirkende: \nPHACE\nMichael Wendeberg\, Dirigent \nDoris Nicoletti\, Flöte\nWalter Seebacher\, Klarinette\nSpiros Laskaridis\, Trompete\nStefan Obmann\, Posaune\nMathilde Hoursiangou\, Klavier\nManuel Alcaraz Clemente\, Percussion\nFrancesco Palmieri\, E-Gitarre\nIvana Pristašová Zaugg\, Violine\nRoland Schueler\, Violoncello\nManuel Mayr\, Kontrabass \nProgramm: \n\nParham Behzad\, Enough? für Flöte\, Posaune\, E-Gitarre\, Klavier und Kontrabass (2025/26\, UA)\nNoh SeungJu\, Studie I für Trompete\, Percussion\, E-Gitarre\, Klavier und Cello (2025/26\, UA)\nDominik Wilnauer-Leitner\, Friendly Machines für Flöte\, Bassklarinette\, Posaune\, Schlagwerk und E-Gitarre (2025/26\, UA)\nEgemen Kurt\, Tertium Datur für Flöte\, Klarinette\, Klavier\, Violine und Cello (2025/26\, UA)\n\n  \nGemeinsam mit Radio Österreich 1 und dem Wiener Ensemble PHACE lud das aspekteFESTIVAL im Juni 2025 zum zweiten Mal die österreichischen Musikuniversitäten ein\, jeweils zwei ihrer Studierenden als teilnehmende Komponist:innen vorzuschlagen. Die Jury wählte einstimmig aus 16 Einreichungen vier junge Künstler aus und beauftragte sie mit einem neuen Werk. Der Jury gehörten an: Ludwig Nussbichler (aspekteFESTIVAL)\, Reinhard Fuchs (Ensemble PHACE)\, Mathilde Hoursiangou (Pianistin bei PHACE\, mdw) und Rainer Elstner (Musikredaktion Ö1\, Co-Kurator ORF musikprotokoll).
URL:https://aspekte-salzburg.com/konzert/aspekte-9-next-generation-phace/
LOCATION:Szene Salzburg\, Anton-Neumayr-Platz 2\, Salzburg\, 5020\, Österreich
CATEGORIES:Aspekte 2026
ATTACH;FMTTYPE=image/jpeg:https://aspekte-salzburg.com/wp-content/uploads/2025/12/PHACE_SARHAN_EE_DSC00099_C_MarkusBruckner-scaled.jpg
ORGANIZER;CN="aspekteSALZBURG":MAILTO:office@aspekte-salzburg.at
END:VEVENT
END:VCALENDAR