BEGIN:VCALENDAR
VERSION:2.0
PRODID:-//aspekte SALZBURG - ECPv6.15.14//NONSGML v1.0//EN
CALSCALE:GREGORIAN
METHOD:PUBLISH
X-WR-CALNAME:aspekte SALZBURG
X-ORIGINAL-URL:https://aspekte-salzburg.com
X-WR-CALDESC:Veranstaltungen für aspekte SALZBURG
REFRESH-INTERVAL;VALUE=DURATION:PT1H
X-Robots-Tag:noindex
X-PUBLISHED-TTL:PT1H
BEGIN:VTIMEZONE
TZID:Europe/Vienna
BEGIN:DAYLIGHT
TZOFFSETFROM:+0100
TZOFFSETTO:+0200
TZNAME:CEST
DTSTART:20250330T010000
END:DAYLIGHT
BEGIN:STANDARD
TZOFFSETFROM:+0200
TZOFFSETTO:+0100
TZNAME:CET
DTSTART:20251026T010000
END:STANDARD
BEGIN:DAYLIGHT
TZOFFSETFROM:+0100
TZOFFSETTO:+0200
TZNAME:CEST
DTSTART:20260329T010000
END:DAYLIGHT
BEGIN:STANDARD
TZOFFSETFROM:+0200
TZOFFSETTO:+0100
TZNAME:CET
DTSTART:20261025T010000
END:STANDARD
BEGIN:DAYLIGHT
TZOFFSETFROM:+0100
TZOFFSETTO:+0200
TZNAME:CEST
DTSTART:20270328T010000
END:DAYLIGHT
BEGIN:STANDARD
TZOFFSETFROM:+0200
TZOFFSETTO:+0100
TZNAME:CET
DTSTART:20271031T010000
END:STANDARD
END:VTIMEZONE
BEGIN:VEVENT
DTSTART;TZID=Europe/Vienna:20260313T184500
DTEND;TZID=Europe/Vienna:20260313T200000
DTSTAMP:20260421T104455
CREATED:20251124T151244Z
LAST-MODIFIED:20260313T180106Z
UID:6928-1773427500-1773432000@aspekte-salzburg.com
SUMMARY:aspekte 6: from shore to shore
DESCRIPTION:Mitwirkende: \nMichael Wendeberg\, Dirigent\nIvana Pristašová Zaugg\, Violine \nPHACE\nDoris Nicoletti\, Flöte\nWalter Seebacher\, Klarinette\nAlvaro Collao Leon\, Saxophon\nSpiros Laskaridis\, Trompete\nStefan Obmann\, Posaune\nManuel Alcaraz Clemente\, Percussion\nIgor Gross\, Percussion\nMathilde Hoursiangou\, Klavier\nFrancesco Palmieri\, E-Gitarre\nIvana Pristašová Zaugg\, Violine\nSarah Dragovic\, Viola\nRoland Schueler\, Violoncello\nManuel Mayr\, Kontrabass \n  \nProgramm: \n\nBeat Furrer\, linea dell’orizzonte für Ensemble (2012)\nThomas Wally\, Concertino für Violine und Ensemble (2024)\, Kompositionsauftrag von PHACE\, mit finanzieller Unterstützung des BMKOES und SKE-Fonds\nSarah Nemtsov\, from shore to shore für Ensemble (2024/25)\, Auftragswerk für PHACE\, in Kooperation mit Osterfestival Tirol\, unterstützt von der Ernst von Siemens Musikstiftung\n\n  \n„Als der Himmel sich aufhellte\, lag eine dunkle Linie am Horizont und trennte das Meer vom Himmel …“\, was Virginia Woolf in ihrem Roman The Waves beschreibt\, hat Sarah Nemtsov zu ihrem neuen Ensemblestück from shore to shore angeregt. Mit mikrotonalen Schwebungen und sich umkreisenden Harmonien übersetzt sie Grautöne in Musik. Inspiriert vom selben Phänomen\, der Horizontlinie\, nähert sich Beat Furrer diesem in linea dell’orizzonte\, indem er mit ineinanderschneidenden Stimmen das sich nach und nach Entwickelnde unterstreicht.
URL:https://aspekte-salzburg.com/konzert/aspekte5-phace/
LOCATION:Universität Mozarteum Solitär\, Mirabellplatz 1\, Salzburg\, 5020\, Austria
CATEGORIES:Aspekte 2026
ATTACH;FMTTYPE=image/jpeg:https://aspekte-salzburg.com/wp-content/uploads/2025/11/PHACE_IGNM-reaktorJan2025_MMB03247x_C_MarkusBruckner-scaled.jpg
ORGANIZER;CN="aspekteSALZBURG":MAILTO:office@aspekte-salzburg.at
END:VEVENT
END:VCALENDAR