BEGIN:VCALENDAR
VERSION:2.0
PRODID:-//aspekte SALZBURG - ECPv6.15.14//NONSGML v1.0//EN
CALSCALE:GREGORIAN
METHOD:PUBLISH
X-WR-CALNAME:aspekte SALZBURG
X-ORIGINAL-URL:https://aspekte-salzburg.com
X-WR-CALDESC:Veranstaltungen für aspekte SALZBURG
REFRESH-INTERVAL;VALUE=DURATION:PT1H
X-Robots-Tag:noindex
X-PUBLISHED-TTL:PT1H
BEGIN:VTIMEZONE
TZID:Europe/Paris
BEGIN:DAYLIGHT
TZOFFSETFROM:+0100
TZOFFSETTO:+0200
TZNAME:CEST
DTSTART:20230326T010000
END:DAYLIGHT
BEGIN:STANDARD
TZOFFSETFROM:+0200
TZOFFSETTO:+0100
TZNAME:CET
DTSTART:20231029T010000
END:STANDARD
BEGIN:DAYLIGHT
TZOFFSETFROM:+0100
TZOFFSETTO:+0200
TZNAME:CEST
DTSTART:20240331T010000
END:DAYLIGHT
BEGIN:STANDARD
TZOFFSETFROM:+0200
TZOFFSETTO:+0100
TZNAME:CET
DTSTART:20241027T010000
END:STANDARD
BEGIN:DAYLIGHT
TZOFFSETFROM:+0100
TZOFFSETTO:+0200
TZNAME:CEST
DTSTART:20250330T010000
END:DAYLIGHT
BEGIN:STANDARD
TZOFFSETFROM:+0200
TZOFFSETTO:+0100
TZNAME:CET
DTSTART:20251026T010000
END:STANDARD
END:VTIMEZONE
BEGIN:VEVENT
DTSTART;TZID=Europe/Paris:20240307T180000
DTEND;TZID=Europe/Paris:20240307T184500
DTSTAMP:20260421T115751
CREATED:20240110T112001Z
LAST-MODIFIED:20251120T153854Z
UID:4807-1709834400-1709837100@aspekte-salzburg.com
SUMMARY:Atelier Gespräch
DESCRIPTION:Als Schrei gegen Krieg und Gewalt während eines Aufenthalts im Libanon entstanden\, wurde Jean-Pierre Siméons Theatermonolog „Stabat Mater Furiosa” 1999 in Paris szenisch realisiert. Ausgehend von einer weiblichen Solostimme fächert die szenische Uraufführung von Hossam Mahmouds Komposition Siméons Wutgedicht in einen für alle Zeit gültigen chorischen Appell an die Menschlichkeit auf. Über das dramatische und lyrische Potenzial der Stimme sowie über die Vieldeutigkeit des aspekte-Themas „stimmen” spricht Univ.-Prof. Dr. Sabine Coelsch-Foisner mit der Sopranistin Juliet Fraser\, der Regisseurin Rosamund Gilmore\, dem Komponisten Hossam Mahmoud und dem künstlerischen Leiter des Festivals Ludwig Nussbichler. \nEintritt frei – keine Zählkarten erforderlich
URL:https://aspekte-salzburg.com/konzert/atelier-gespraech-2/
LOCATION:Bösendorfer Saal\, Universität Mozarteum\, Mirabellplatz 1\, Salzburg\, 5020\, Österreich
CATEGORIES:Aspekte 2024
ATTACH;FMTTYPE=image/jpeg:https://aspekte-salzburg.com/wp-content/uploads/2022/01/ryan-stone-7IOUIfPnuHs-unsplash-scaled-e1707813736100.jpg
END:VEVENT
END:VCALENDAR