BEGIN:VCALENDAR
VERSION:2.0
PRODID:-//aspekte SALZBURG - ECPv6.15.14//NONSGML v1.0//EN
CALSCALE:GREGORIAN
METHOD:PUBLISH
X-WR-CALNAME:aspekte SALZBURG
X-ORIGINAL-URL:https://aspekte-salzburg.com
X-WR-CALDESC:Veranstaltungen für aspekte SALZBURG
REFRESH-INTERVAL;VALUE=DURATION:PT1H
X-Robots-Tag:noindex
X-PUBLISHED-TTL:PT1H
BEGIN:VTIMEZONE
TZID:Europe/Paris
BEGIN:DAYLIGHT
TZOFFSETFROM:+0100
TZOFFSETTO:+0200
TZNAME:CEST
DTSTART:20080330T010000
END:DAYLIGHT
BEGIN:STANDARD
TZOFFSETFROM:+0200
TZOFFSETTO:+0100
TZNAME:CET
DTSTART:20081026T010000
END:STANDARD
BEGIN:DAYLIGHT
TZOFFSETFROM:+0100
TZOFFSETTO:+0200
TZNAME:CEST
DTSTART:20090329T010000
END:DAYLIGHT
BEGIN:STANDARD
TZOFFSETFROM:+0200
TZOFFSETTO:+0100
TZNAME:CET
DTSTART:20091025T010000
END:STANDARD
BEGIN:DAYLIGHT
TZOFFSETFROM:+0100
TZOFFSETTO:+0200
TZNAME:CEST
DTSTART:20100328T010000
END:DAYLIGHT
BEGIN:STANDARD
TZOFFSETFROM:+0200
TZOFFSETTO:+0100
TZNAME:CET
DTSTART:20101031T010000
END:STANDARD
END:VTIMEZONE
BEGIN:VEVENT
DTSTART;TZID=Europe/Paris:20090428T090000
DTEND;TZID=Europe/Paris:20090428T090000
DTSTAMP:20260421T104910
CREATED:20191119T082227Z
LAST-MODIFIED:20251120T155619Z
UID:2617-1240909200-1240909200@aspekte-salzburg.com
SUMMARY:Der Josa mit der Zauberfiedel | I
DESCRIPTION:Programm\nMusik von Wilfried Hiller nach Bilderbuchtexten von Janosch\, eingerichtet von Elisabeth Woska \nIm Vorfeld (am 18. März 2009) konnten SchülerInnen und LehrerInnen der Volksschule der Franziskanerinnen und der Volksschule Mülln Wilfried Hiller unter dem Motto „Komponist zum Anfassen“ persönlich kennenlernen und erhielten bei dieser Gelegenheit eine Einführung zu „Der Josa mit der Zauberfiedel“. \nNicht jeder Junge muss groß und stark sein. Auch die kleineren und vielleicht nicht so starken besitzen Fähigkeiten\, die ganz woanders liegen können. Josa ist so einer. Er bezaubert und verzaubert die Welt mit seiner Fiedel. Er will dem Mond vorspielen\, will ihn groß und klein werden lassen- um das zu erreichen\, muss er ans Ende der Welt\, dorthin\, wo der Mond ihn auch hört. Und indem Josa den Mond sucht\, findet er sich selbst. \n  \nMitwirkende\nWilfried Hiller und sein Ensemble \nElisabeth Woska\, Erzählerin \n 
URL:https://aspekte-salzburg.com/konzert/der-josa-mit-der-zauberfiedel-i/
LOCATION:Steinway-Saal\, Schwarzstraße 49\, Salzburg\, 5020\, Österreich
END:VEVENT
END:VCALENDAR