BEGIN:VCALENDAR
VERSION:2.0
PRODID:-//aspekte SALZBURG - ECPv6.15.14//NONSGML v1.0//EN
CALSCALE:GREGORIAN
METHOD:PUBLISH
X-WR-CALNAME:aspekte SALZBURG
X-ORIGINAL-URL:https://aspekte-salzburg.com
X-WR-CALDESC:Veranstaltungen für aspekte SALZBURG
REFRESH-INTERVAL;VALUE=DURATION:PT1H
X-Robots-Tag:noindex
X-PUBLISHED-TTL:PT1H
BEGIN:VTIMEZONE
TZID:Europe/Paris
BEGIN:DAYLIGHT
TZOFFSETFROM:+0100
TZOFFSETTO:+0200
TZNAME:CEST
DTSTART:19760328T000000
END:DAYLIGHT
BEGIN:STANDARD
TZOFFSETFROM:+0200
TZOFFSETTO:+0100
TZNAME:CET
DTSTART:19760925T230000
END:STANDARD
BEGIN:DAYLIGHT
TZOFFSETFROM:+0100
TZOFFSETTO:+0200
TZNAME:CEST
DTSTART:19770403T010000
END:DAYLIGHT
BEGIN:STANDARD
TZOFFSETFROM:+0200
TZOFFSETTO:+0100
TZNAME:CET
DTSTART:19770925T010000
END:STANDARD
BEGIN:DAYLIGHT
TZOFFSETFROM:+0100
TZOFFSETTO:+0200
TZNAME:CEST
DTSTART:19780402T010000
END:DAYLIGHT
BEGIN:STANDARD
TZOFFSETFROM:+0200
TZOFFSETTO:+0100
TZNAME:CET
DTSTART:19781001T010000
END:STANDARD
END:VTIMEZONE
BEGIN:VEVENT
DTSTART;TZID=Europe/Paris:19770521T210000
DTEND;TZID=Europe/Paris:19770521T210000
DTSTAMP:20260421T104819
CREATED:20191118T130221Z
LAST-MODIFIED:20251120T152337Z
UID:2540-233096400-233096400@aspekte-salzburg.com
SUMMARY:Film – experimentell
DESCRIPTION:Programm\nFilme junger Regisseure der Hochschule für Musik und darst. Kunst\, Wien \n  \nW. Zwacek\, Präsentation \n  \nKaufmann\, Verkörperungen \nPersönlichkeitsportrait über G. Stecharnig \n  \nDelacher\, Dreams are Bubbles \n  \nDanzmayr /Zwacek\, Integrierung \nVideofilm\, s/w \n  \nOtt\, Schluss \nDokumentarfilm\, s/w \n  \nMitwirkende\n  \nW. Zwacek \nKaufmann \nDelacher \nDanzmayr \nOtt
URL:https://aspekte-salzburg.com/konzert/film-experimentell/
LOCATION:Petersbrunnhof\, Erzabt-Klotz-Str. 22\, Salzburg\, 5020
END:VEVENT
END:VCALENDAR