BEGIN:VCALENDAR
VERSION:2.0
PRODID:-//aspekte SALZBURG - ECPv6.15.14//NONSGML v1.0//EN
CALSCALE:GREGORIAN
METHOD:PUBLISH
X-WR-CALNAME:aspekte SALZBURG
X-ORIGINAL-URL:https://aspekte-salzburg.com
X-WR-CALDESC:Veranstaltungen für aspekte SALZBURG
REFRESH-INTERVAL;VALUE=DURATION:PT1H
X-Robots-Tag:noindex
X-PUBLISHED-TTL:PT1H
BEGIN:VTIMEZONE
TZID:Europe/Paris
BEGIN:DAYLIGHT
TZOFFSETFROM:+0100
TZOFFSETTO:+0200
TZNAME:CEST
DTSTART:20150329T010000
END:DAYLIGHT
BEGIN:STANDARD
TZOFFSETFROM:+0200
TZOFFSETTO:+0100
TZNAME:CET
DTSTART:20151025T010000
END:STANDARD
BEGIN:DAYLIGHT
TZOFFSETFROM:+0100
TZOFFSETTO:+0200
TZNAME:CEST
DTSTART:20160327T010000
END:DAYLIGHT
BEGIN:STANDARD
TZOFFSETFROM:+0200
TZOFFSETTO:+0100
TZNAME:CET
DTSTART:20161030T010000
END:STANDARD
BEGIN:DAYLIGHT
TZOFFSETFROM:+0100
TZOFFSETTO:+0200
TZNAME:CEST
DTSTART:20170326T010000
END:DAYLIGHT
BEGIN:STANDARD
TZOFFSETFROM:+0200
TZOFFSETTO:+0100
TZNAME:CET
DTSTART:20171029T010000
END:STANDARD
END:VTIMEZONE
BEGIN:VEVENT
DTSTART;TZID=Europe/Paris:20160602T213000
DTEND;TZID=Europe/Paris:20160602T223000
DTSTAMP:20260421T104909
CREATED:20160406T154158Z
LAST-MODIFIED:20251120T154516Z
UID:138-1464903000-1464906600@aspekte-salzburg.com
SUMMARY:III | Au Poisson Rouge - Il colore dell´ombra
DESCRIPTION:Programm\nYann Robin\, „Ftera“ für Bassklarinette\, Viola und Klavier (2014) \n\nTristan Murail\, „La Mandragore“ für Klavier (1993) \n\nClara Iannotta\, „Il colore dell’ombra“ für Violine\, Cello und Klavier (2010) \n\nPeter Jakober\, „flimmernd“ für Quartett\, Uraufführung \n\nMirela Ivičević\, Ranko(A)sis III: TOP 10 songs I’ve never written\, Für Bassklarinette\, Viola und Violoncello\, Uraufführung \n\nMitwirkende\nHsin-Huei Huang\, Klavier \nBarbara Riccabona\, Violoncello \nBarbara Lüneburg\, Violine/Viola \nHoria Dumitrache\, Klarinette/Bassklarinette \n  \n\n\nHsin-Huei Huang\n„Die Farben des Schattens“\, so nennt die italienische Komponistin Clara Jannotta ihr Klaviertrio. „Mandragora“ ist ein Nachtschattengewächs\, „Ftera“ kann ein Baum auf Kreta sein. Die Kräfte der Natur und der Tageszeiten spielen offensichtlich auch in der Musik unserer Zeit eine Rolle. Dazu kommen von Peter Jakober und Mirela Ivičević Uraufführungen zweier vielversprechender\, eigenwilliger KomponistInnen der next generation aus Österreich.
URL:https://aspekte-salzburg.com/konzert/iii-au-poisson-rouge-il-colore-dellombra/
LOCATION:Kavernen 1595\, Gstättengasse 27–29\, Salzburg\, 5020\, Österreich
CATEGORIES:Aspekte 2016
END:VEVENT
END:VCALENDAR