BEGIN:VCALENDAR
VERSION:2.0
PRODID:-//aspekte SALZBURG - ECPv6.15.14//NONSGML v1.0//EN
CALSCALE:GREGORIAN
METHOD:PUBLISH
X-WR-CALNAME:aspekte SALZBURG
X-ORIGINAL-URL:https://aspekte-salzburg.com
X-WR-CALDESC:Veranstaltungen für aspekte SALZBURG
REFRESH-INTERVAL;VALUE=DURATION:PT1H
X-Robots-Tag:noindex
X-PUBLISHED-TTL:PT1H
BEGIN:VTIMEZONE
TZID:Europe/Paris
BEGIN:DAYLIGHT
TZOFFSETFROM:+0100
TZOFFSETTO:+0200
TZNAME:CEST
DTSTART:20150329T010000
END:DAYLIGHT
BEGIN:STANDARD
TZOFFSETFROM:+0200
TZOFFSETTO:+0100
TZNAME:CET
DTSTART:20151025T010000
END:STANDARD
BEGIN:DAYLIGHT
TZOFFSETFROM:+0100
TZOFFSETTO:+0200
TZNAME:CEST
DTSTART:20160327T010000
END:DAYLIGHT
BEGIN:STANDARD
TZOFFSETFROM:+0200
TZOFFSETTO:+0100
TZNAME:CET
DTSTART:20161030T010000
END:STANDARD
BEGIN:DAYLIGHT
TZOFFSETFROM:+0100
TZOFFSETTO:+0200
TZNAME:CEST
DTSTART:20170326T010000
END:DAYLIGHT
BEGIN:STANDARD
TZOFFSETFROM:+0200
TZOFFSETTO:+0100
TZNAME:CET
DTSTART:20171029T010000
END:STANDARD
END:VTIMEZONE
BEGIN:VEVENT
DTSTART;TZID=Europe/Paris:20160603T160000
DTEND;TZID=Europe/Paris:20160603T173000
DTSTAMP:20260421T104859
CREATED:20160406T154659Z
LAST-MODIFIED:20260119T151727Z
UID:141-1464969600-1464975000@aspekte-salzburg.com
SUMMARY:IV | aspekteSPIELRÄUME
DESCRIPTION:Programm\nTrad./Arr. Gerhard Füßl (*1968)\, Jewish Balkan \n//Interpreten// \nBläserensemble Senza Confini \nLukas Dürager\, Tenorhorn \nFlorian Hemetsberger\, Tenorhorn \nLukas Hemetsberger\, Tenorhorn \nDaniel Schwaighofer\, Tuba \n\nPreisträgerstück 1 „Jugend komponiert“ \n  \nPoe Paulson (*1962)\, In Erinnerung an W. A. M\, „Die Nachtwache zu Salzburg“ \n//Interpreten// \nChiara Gruber\, Gitarre \n\nJewgeni Derbenko (*1949)\, Kleine Suite\, Polka\, Kleine Waise\, Alte Drehorgel\, Hühnerjagd \n//Interpreten// \nLukas Dürager\, Akkordeon \n\nPreisträgerstück 2 „Jugend komponiert“ \n  \nJohannes Kotschy (*1949)\, 16 Miniaturen für Violoncello solo\, Über das Meer \n//Interpreten// \nViola Pracher\, Violoncello \n\nJürg Kindle (*1960)\, aus Les Planètes\, Saturne \n//Interpreten// \nCorinna Gerl\, Gitarre \n\nJohannes Pillinger (*1963)\, Globalixmix im Bushladen\, Fagott-Trio Albasun \n//Interpreten// \nLukas Grubinger \nLea Neumayer \nJohanna Mayr \n\nPreisträgerstück 3 „Jugend komponiert“ \n  \nGerhard Wimberger (*1923)\, Toitoitoi \n//Interpreten// \nZiyu He\, Violine \n  \nTomoko Sato\, Flöte \nBarbara Giusto\, Gitarre \n  \n\nJugend komponiert\, Aspekte Sonderpreis 2016\nIn Kooperation mit Musik der Jugend\, ÖKB\, Musikum Salzburg\, Uni Mozarteum\nUraufführungen von österreichischen jungen Komponisten
URL:https://aspekte-salzburg.com/konzert/iv-aspektespielraeume/
LOCATION:Kavernen 1595\, Gstättengasse 27–29\, Salzburg\, 5020\, Österreich
CATEGORIES:Aspekte 2016,Spielräume
END:VEVENT
END:VCALENDAR