BEGIN:VCALENDAR
VERSION:2.0
PRODID:-//aspekte SALZBURG - ECPv6.15.14//NONSGML v1.0//EN
CALSCALE:GREGORIAN
METHOD:PUBLISH
X-WR-CALNAME:aspekte SALZBURG
X-ORIGINAL-URL:https://aspekte-salzburg.com
X-WR-CALDESC:Veranstaltungen für aspekte SALZBURG
REFRESH-INTERVAL;VALUE=DURATION:PT1H
X-Robots-Tag:noindex
X-PUBLISHED-TTL:PT1H
BEGIN:VTIMEZONE
TZID:Europe/Paris
BEGIN:DAYLIGHT
TZOFFSETFROM:+0100
TZOFFSETTO:+0200
TZNAME:CEST
DTSTART:20180325T010000
END:DAYLIGHT
BEGIN:STANDARD
TZOFFSETFROM:+0200
TZOFFSETTO:+0100
TZNAME:CET
DTSTART:20181028T010000
END:STANDARD
BEGIN:DAYLIGHT
TZOFFSETFROM:+0100
TZOFFSETTO:+0200
TZNAME:CEST
DTSTART:20190331T010000
END:DAYLIGHT
BEGIN:STANDARD
TZOFFSETFROM:+0200
TZOFFSETTO:+0100
TZNAME:CET
DTSTART:20191027T010000
END:STANDARD
BEGIN:DAYLIGHT
TZOFFSETFROM:+0100
TZOFFSETTO:+0200
TZNAME:CEST
DTSTART:20200329T010000
END:DAYLIGHT
BEGIN:STANDARD
TZOFFSETFROM:+0200
TZOFFSETTO:+0100
TZNAME:CET
DTSTART:20201025T010000
END:STANDARD
END:VTIMEZONE
BEGIN:VEVENT
DTSTART;TZID=Europe/Paris:20190518T140000
DTEND;TZID=Europe/Paris:20190518T140000
DTSTAMP:20260421T115859
CREATED:20190617T074514Z
LAST-MODIFIED:20260119T151802Z
UID:1399-1558188000-1558188000@aspekte-salzburg.com
SUMMARY:Jugend komponiert - Finale
DESCRIPTION:Programm\n\n  \nAltersgruppe I (10-14 Jahre) \n  \nJulia Daria Hermentin (*2008)\, „Tanzende Lichter“ \n//Interpreten// \nJulia Hermentin\, Klavier \n  \nLuca Stamenov (*2005)\, „Strange Night“ \n//Interpreten// \nLuca Stamenov\, Klavier \n  \nAndreas Bachmair (*2006)\, „MultiphöniX“ \n//Interpreten// \nAndreas Bachmair\, Saxophon \n  \n  \nAltersgruppe II (15-18 Jahre) \n  \nTina Geroldinger (*2000)\, „Mei Küchenkastl“ \n//Interpreten// \nTina Geroldinger\, Trompete \n  \nHeinrich Fuhrmann (*2002)\, „It’s Snowing“ \n//Interpreten// \nHeinrich Fuhrman\, Klavier \n  \nKiron Atom Tellian (*2002)\, „Brunnenmarkt“ \n//Interpreten// \nKiron Atom Tellian\, Klavier \n  \nSaxophontrio\n  \nJohanna Kirner \nMojca Pecman \nAnton Prettler \n  \nJury\nSebastiana Ierna\, MA (Pianistin\, Komponistin\, Musikum Salzburg Stadt) \nAlexander Kukelka (Komponist\, Präsident ÖKB) \nao. Univ. Prof. Mag. Christian Maurer (Saxophonist) \nUniv. Prof. i.R. MMag. Gunter Waldek (Komponist\, Präsident OÖKB) \nJuryvorsitz: Mag. Richard Graf (Komponist\, Präsident INÖK\, Dekan Privatuniversität JML) \n  \nDer Österreichische Komponistenbund (ÖKB)\nist die Interessenvertretung in Österreich lebender und wirkender KomponistInnen. Wichtigstes Ziel ist die Förderung und Stärkung der gesellschaftlichen\, kulturpolitischen und wirtschaftlichen Position der Musikschaffenden Österreichs. Der ÖKB ist Initiator von zahlreichen Projekten\, wie Wettbewerben\, Konzertformaten oder Kongressen und engagiert sich für die Nachwuchsförderung. Der Wettbewerb „Jugend komponiert” findet bereits zum 11. Mal statt.
URL:https://aspekte-salzburg.com/konzert/jugend-komponiert-finale/
LOCATION:Kleines Studio\, Universität Mozarteum\, Mirabellplatz 1\, Salzburg\, 5020\, Österreich
CATEGORIES:Spielräume
END:VEVENT
END:VCALENDAR