BEGIN:VCALENDAR
VERSION:2.0
PRODID:-//aspekte SALZBURG - ECPv6.15.14//NONSGML v1.0//EN
CALSCALE:GREGORIAN
METHOD:PUBLISH
X-WR-CALNAME:aspekte SALZBURG
X-ORIGINAL-URL:https://aspekte-salzburg.com
X-WR-CALDESC:Veranstaltungen für aspekte SALZBURG
REFRESH-INTERVAL;VALUE=DURATION:PT1H
X-Robots-Tag:noindex
X-PUBLISHED-TTL:PT1H
BEGIN:VTIMEZONE
TZID:Europe/Paris
BEGIN:DAYLIGHT
TZOFFSETFROM:+0100
TZOFFSETTO:+0200
TZNAME:CEST
DTSTART:20100328T010000
END:DAYLIGHT
BEGIN:STANDARD
TZOFFSETFROM:+0200
TZOFFSETTO:+0100
TZNAME:CET
DTSTART:20101031T010000
END:STANDARD
BEGIN:DAYLIGHT
TZOFFSETFROM:+0100
TZOFFSETTO:+0200
TZNAME:CEST
DTSTART:20110327T010000
END:DAYLIGHT
BEGIN:STANDARD
TZOFFSETFROM:+0200
TZOFFSETTO:+0100
TZNAME:CET
DTSTART:20111030T010000
END:STANDARD
BEGIN:DAYLIGHT
TZOFFSETFROM:+0100
TZOFFSETTO:+0200
TZNAME:CEST
DTSTART:20120325T010000
END:DAYLIGHT
BEGIN:STANDARD
TZOFFSETFROM:+0200
TZOFFSETTO:+0100
TZNAME:CET
DTSTART:20121028T010000
END:STANDARD
END:VTIMEZONE
BEGIN:VEVENT
DTSTART;TZID=Europe/Paris:20110606T183000
DTEND;TZID=Europe/Paris:20110606T183000
DTSTAMP:20260421T104859
CREATED:20191118T154838Z
LAST-MODIFIED:20260119T151526Z
UID:2596-1307385000-1307385000@aspekte-salzburg.com
SUMMARY:Jugend komponiert – Preisträgerkonzert
DESCRIPTION:Programm\n  \nEvzen Zamecnik (*1939)\, Concertino für Tuba und Klavier\n1. Satz\, „Preludio“\n// Interpreten //\nBarbara Gruchmann\, Tuba\nKlavierkorrepetition: Irina Sheshko \n  \nPreisträgerstück 1 „Jugend komponiert”\nJakob Gruchmann (*1991)\, Vier Volkslied-Variationen für Violoncello und Violone\n// Interpreten //\nV-iocellon-A\nVeronika Gruchmann\, Violoncello\nAnna Gruchmann\, Kontrabass \n  \nLudwig Nussbichler (*1963)\, KlangSpiele\n// Interpreten //\nDuo Kla(r)VIERhände\nTheresa Gierlinger\, Klavier\nJohanna Aichriedler\, Klavier \n  \nPreisträgerstück 2 „Jugend komponiert”\nJan Koetsier (*1911)\, Scherzo Brillante\n// Interpreten //\nRainer Seyfried\, Horn\nKlavierkorrepetition: Anna Shewa Yoon \n  \nXaver Paul Thoma (*1953)\, Schwingungen von 14 Saiten\n// Interpreten //\nTrio Cantabile\nAnuschka Cidlinsky\, Viola\nMarie-Therese Schwöllinger\, Violine\nElina Salzmann\, Gitarre
URL:https://aspekte-salzburg.com/konzert/jugend-komponiert-preistraegerkonzert/
LOCATION:Wiener Saal\, Stiftung Mozarteum\, Schwarzstraße 26\, Salzburg\, 5020
CATEGORIES:Spielräume
END:VEVENT
END:VCALENDAR