BEGIN:VCALENDAR
VERSION:2.0
PRODID:-//aspekte SALZBURG - ECPv6.15.14//NONSGML v1.0//EN
CALSCALE:GREGORIAN
METHOD:PUBLISH
X-WR-CALNAME:aspekte SALZBURG
X-ORIGINAL-URL:https://aspekte-salzburg.com
X-WR-CALDESC:Veranstaltungen für aspekte SALZBURG
REFRESH-INTERVAL;VALUE=DURATION:PT1H
X-Robots-Tag:noindex
X-PUBLISHED-TTL:PT1H
BEGIN:VTIMEZONE
TZID:Europe/Paris
BEGIN:DAYLIGHT
TZOFFSETFROM:+0100
TZOFFSETTO:+0200
TZNAME:CEST
DTSTART:19870329T010000
END:DAYLIGHT
BEGIN:STANDARD
TZOFFSETFROM:+0200
TZOFFSETTO:+0100
TZNAME:CET
DTSTART:19870927T010000
END:STANDARD
BEGIN:DAYLIGHT
TZOFFSETFROM:+0100
TZOFFSETTO:+0200
TZNAME:CEST
DTSTART:19880327T010000
END:DAYLIGHT
BEGIN:STANDARD
TZOFFSETFROM:+0200
TZOFFSETTO:+0100
TZNAME:CET
DTSTART:19880925T010000
END:STANDARD
BEGIN:DAYLIGHT
TZOFFSETFROM:+0100
TZOFFSETTO:+0200
TZNAME:CEST
DTSTART:19890326T010000
END:DAYLIGHT
BEGIN:STANDARD
TZOFFSETFROM:+0200
TZOFFSETTO:+0100
TZNAME:CET
DTSTART:19890924T010000
END:STANDARD
END:VTIMEZONE
BEGIN:VEVENT
DTSTART;TZID=Europe/Paris:19880507T200000
DTEND;TZID=Europe/Paris:19880507T200000
DTSTAMP:20260421T104648
CREATED:20190814T073535Z
LAST-MODIFIED:20251120T161338Z
UID:2171-579038400-579038400@aspekte-salzburg.com
SUMMARY:Konzert I
DESCRIPTION:Programm\nA. Russolo\, Gavotta (1914)\nKlavier\, Violine\, Violoncello \nF. B. Pratella\, Musica Futurista Per Orchestra op. (1912)\nAufnahme des Fragments (1979)\nOrchestrer RTSI aus Lugano\, Dir. B. Martinotti \nF. B. Pratella\, Giallo Pallido op. 39 (1920)\nstreichquartett \nF. B. Pratella\, Dandomi A Rono\naus L’aviatore Dro op. 33 (1920)\nGesang und Klavier\nFrammenti dal 2 e 3 atto\naus L’aviatore Dro op. 33 (1920)\nGesang\, Klavier\, scoppiatore\, rombatore\, ululatore und Stimmen \nA. Russolo\, La Pioggias (1914)\ntesto di G. Pascoli\nGesang\, Klavier\, ronzatore\, sibilatore\, gracidatore\, gorgoliatore \nL. Russolo\, Riseveglio di una citta (1914)\nFragment aus Lacerba\nululatore\, rombatore\, crepitatore\, scoppiatore\, ronzatore\, gorgogliatore\, sibilatore \nA. Russolo\, Serenata (1921)\nOrchester und intonarumori \nS. Mix\, Preludio\, Notturno\, Scherzo (1926)\nStreichquartett \nS. Mix\, Ritratto Sintetico-Musicale Di F. T. Marinetti (1924)\nKlavier \nF. T. Marinetti\, Presentazione di a. giuntini e dell ‚ aero musica\nOriginalaufnahme \nA. Giuntini\, brani sintetici (1928)\nKlavier \nF. Casavola\, L’inquietude – L’amour impossible (1926)\nGesang\, Klavier\, arco enarmonico \nG. Balla\, Macchina Tipografica (1924)\nLautgedicht\nronzatore\, sibilatore\, scoppiatore\, gorgoliatore\, Stimmen \nF. Depero\, Canzone Rumorista (1917)\naus Anihcccam del 3000\nmusikalische Ausarbeitung von R. maggia\nGesang\, Klavier\, Violine\, piano enarmonico\, ululatore\, gorgoliatore\, sibilatore\, rombatore\, scoppiatore\, ronzatore \nF\, T. Marinetti\, La signora coricolata\,\nFra i communicati di guerra (1917)\nmusikalische Ausarbeitung von R. Maggia\nGesang\, Klavier\, Violine\, arco enarmonico\, ululatore\, crepitatore\, scoppiatore\, sibilatore\, rombatore\, gorgoliatore \n  \nMitwirkende\nRussolo Ensemble \nRossana Maggia\, Sopran \nAlessandro Nidi\, Klavier \nCarlo Martini\, Violine und intonarumori \nMario Roncuzzi\, Violine\, intonarumori\, piano enarmico \nGuiseppe Ambrosini\, Viola\, intonarumori\, piano enarmico \nSilvio Righini\, Violoncello und intonarumori \nG. Franco Maffina\, Künstlerische Leitung
URL:https://aspekte-salzburg.com/konzert/konzert-i-16/
LOCATION:Großes Studio\, Universität Mozarteum\, Mirabellplatz 1\, Salzburg\, 5020
END:VEVENT
END:VCALENDAR