BEGIN:VCALENDAR
VERSION:2.0
PRODID:-//aspekte SALZBURG - ECPv6.15.14//NONSGML v1.0//EN
CALSCALE:GREGORIAN
METHOD:PUBLISH
X-WR-CALNAME:aspekte SALZBURG
X-ORIGINAL-URL:https://aspekte-salzburg.com
X-WR-CALDESC:Veranstaltungen für aspekte SALZBURG
REFRESH-INTERVAL;VALUE=DURATION:PT1H
X-Robots-Tag:noindex
X-PUBLISHED-TTL:PT1H
BEGIN:VTIMEZONE
TZID:Europe/Paris
BEGIN:DAYLIGHT
TZOFFSETFROM:+0100
TZOFFSETTO:+0200
TZNAME:CEST
DTSTART:19790401T010000
END:DAYLIGHT
BEGIN:STANDARD
TZOFFSETFROM:+0200
TZOFFSETTO:+0100
TZNAME:CET
DTSTART:19790930T010000
END:STANDARD
BEGIN:DAYLIGHT
TZOFFSETFROM:+0100
TZOFFSETTO:+0200
TZNAME:CEST
DTSTART:19800406T010000
END:DAYLIGHT
BEGIN:STANDARD
TZOFFSETFROM:+0200
TZOFFSETTO:+0100
TZNAME:CET
DTSTART:19800928T010000
END:STANDARD
BEGIN:DAYLIGHT
TZOFFSETFROM:+0100
TZOFFSETTO:+0200
TZNAME:CEST
DTSTART:19810329T010000
END:DAYLIGHT
BEGIN:STANDARD
TZOFFSETFROM:+0200
TZOFFSETTO:+0100
TZNAME:CET
DTSTART:19810927T010000
END:STANDARD
END:VTIMEZONE
BEGIN:VEVENT
DTSTART;TZID=Europe/Paris:19800604T200000
DTEND;TZID=Europe/Paris:19800604T200000
DTSTAMP:20260421T121712
CREATED:20190827T075238Z
LAST-MODIFIED:20251120T152603Z
UID:2377-328996800-328996800@aspekte-salzburg.com
SUMMARY:Konzert I
DESCRIPTION:Programm\nKlaus Ager\, Kohärenz – Inkohärenz II (1980\, UA)\nfür Chor und Kammerorchester \nAlexander Mullenbach\, Manchmal stirbt einer… (1980\, UA)\nfür 8-stimmigen Chor a capella \nAndor Losonczy\, White box (1979/80\, UA)\nfür Chor und Kammerensemble \nCharles Ives\,\nWalking\nSerenity\nThey are there !\nfür Chor unisono und Klavier \n  \nMitwirkende\nSalzburger Kammerchor\noenm. österreichisches ensemble für neue musik\nRupert Huber\, Leitung
URL:https://aspekte-salzburg.com/konzert/konzert-i-23/
LOCATION:ORF Publikumsstudio\, Nonntaler Hauptstr. 49\, Salzburg\, 5020
END:VEVENT
END:VCALENDAR