BEGIN:VCALENDAR
VERSION:2.0
PRODID:-//aspekte SALZBURG - ECPv6.15.14//NONSGML v1.0//EN
CALSCALE:GREGORIAN
METHOD:PUBLISH
X-WR-CALNAME:aspekte SALZBURG
X-ORIGINAL-URL:https://aspekte-salzburg.com
X-WR-CALDESC:Veranstaltungen für aspekte SALZBURG
REFRESH-INTERVAL;VALUE=DURATION:PT1H
X-Robots-Tag:noindex
X-PUBLISHED-TTL:PT1H
BEGIN:VTIMEZONE
TZID:Europe/Paris
BEGIN:DAYLIGHT
TZOFFSETFROM:+0100
TZOFFSETTO:+0200
TZNAME:CEST
DTSTART:19780402T010000
END:DAYLIGHT
BEGIN:STANDARD
TZOFFSETFROM:+0200
TZOFFSETTO:+0100
TZNAME:CET
DTSTART:19781001T010000
END:STANDARD
BEGIN:DAYLIGHT
TZOFFSETFROM:+0100
TZOFFSETTO:+0200
TZNAME:CEST
DTSTART:19790401T010000
END:DAYLIGHT
BEGIN:STANDARD
TZOFFSETFROM:+0200
TZOFFSETTO:+0100
TZNAME:CET
DTSTART:19790930T010000
END:STANDARD
BEGIN:DAYLIGHT
TZOFFSETFROM:+0100
TZOFFSETTO:+0200
TZNAME:CEST
DTSTART:19800406T010000
END:DAYLIGHT
BEGIN:STANDARD
TZOFFSETFROM:+0200
TZOFFSETTO:+0100
TZNAME:CET
DTSTART:19800928T010000
END:STANDARD
END:VTIMEZONE
BEGIN:VEVENT
DTSTART;TZID=Europe/Paris:19790614T190000
DTEND;TZID=Europe/Paris:19790614T190000
DTSTAMP:20260421T104646
CREATED:20191118T132944Z
LAST-MODIFIED:20251120T152632Z
UID:2552-298234800-298234800@aspekte-salzburg.com
SUMMARY:Konzert I
DESCRIPTION:Programm\nSpecial Service \nEine Rarität \nLichtlein \nRomanzo die Central Park (1900) \nDas Geheimnis der Zitrone \nFour Systems \nSenflöffelchen \nTacet (1952) \nAeolian Harp (1923) \nGöttliche Funken \nPflöcklein \nBirch-Pfeiffer \nBlickrichtungen (1979) \nNylon (1984) \nTelevision Köln (1958) \nJedes Böhnchen ein Tönchen \nDancers (1951) \nProgrammänderungen vorbehalten \nDe-Kon-Traktionen (1963) \n  \nMitwirkende\nEnsemble Musik über Musik\, Bern \nElisabeth Bächli\, Organistin \nErika Radermacher\, Sopranistin \nJürg Frey\, Klarinettist \nUrs Peter Schneider\, Pianist
URL:https://aspekte-salzburg.com/konzert/konzert-i-26/
LOCATION:Künstlerhaus\, Hellbrunner Str. 3\, Salzburg\, 5020
END:VEVENT
END:VCALENDAR