BEGIN:VCALENDAR
VERSION:2.0
PRODID:-//aspekte SALZBURG - ECPv6.15.14//NONSGML v1.0//EN
CALSCALE:GREGORIAN
METHOD:PUBLISH
X-WR-CALNAME:aspekte SALZBURG
X-ORIGINAL-URL:https://aspekte-salzburg.com
X-WR-CALDESC:Veranstaltungen für aspekte SALZBURG
REFRESH-INTERVAL;VALUE=DURATION:PT1H
X-Robots-Tag:noindex
X-PUBLISHED-TTL:PT1H
BEGIN:VTIMEZONE
TZID:Europe/Paris
BEGIN:DAYLIGHT
TZOFFSETFROM:+0100
TZOFFSETTO:+0200
TZNAME:CEST
DTSTART:20010325T010000
END:DAYLIGHT
BEGIN:STANDARD
TZOFFSETFROM:+0200
TZOFFSETTO:+0100
TZNAME:CET
DTSTART:20011028T010000
END:STANDARD
BEGIN:DAYLIGHT
TZOFFSETFROM:+0100
TZOFFSETTO:+0200
TZNAME:CEST
DTSTART:20020331T010000
END:DAYLIGHT
BEGIN:STANDARD
TZOFFSETFROM:+0200
TZOFFSETTO:+0100
TZNAME:CET
DTSTART:20021027T010000
END:STANDARD
BEGIN:DAYLIGHT
TZOFFSETFROM:+0100
TZOFFSETTO:+0200
TZNAME:CEST
DTSTART:20030330T010000
END:DAYLIGHT
BEGIN:STANDARD
TZOFFSETFROM:+0200
TZOFFSETTO:+0100
TZNAME:CET
DTSTART:20031026T010000
END:STANDARD
END:VTIMEZONE
BEGIN:VEVENT
DTSTART;TZID=Europe/Paris:20020223T190000
DTEND;TZID=Europe/Paris:20020223T190000
DTSTAMP:20260421T104453
CREATED:20190725T065454Z
LAST-MODIFIED:20251120T160053Z
UID:1782-1014490800-1014490800@aspekte-salzburg.com
SUMMARY:Konzert I
DESCRIPTION:Programm\nDaniel Stefani\, Tu\, Mar Desnudo (1990)\nfür Streichorchester \nHarmut Schmidt\, 2. Alphornkonzert (2000) \nAstor Piazzolla\, Concierto para piano\, orquesta de cuerda y percussion \nSimone Fontanelli\, That Means (2002)\nbased on „That Means A Lot” by J. Lennon and P. McCartney\nUA der Version für Streichorchester (2002) \n  \nMitwirkende\nWilly Schwaiger\, Alphorn \nHumberto Quagliata\, Klavier \nThomas Rösner\, Dirigent
URL:https://aspekte-salzburg.com/konzert/konzert-i-3/
LOCATION:Orchesterhaus\, Erzbischof-Gebhard-Straße 10\, Salzburg\, 5020
END:VEVENT
END:VCALENDAR