BEGIN:VCALENDAR
VERSION:2.0
PRODID:-//aspekte SALZBURG - ECPv6.15.14//NONSGML v1.0//EN
CALSCALE:GREGORIAN
METHOD:PUBLISH
X-WR-CALNAME:aspekte SALZBURG
X-ORIGINAL-URL:https://aspekte-salzburg.com
X-WR-CALDESC:Veranstaltungen für aspekte SALZBURG
REFRESH-INTERVAL;VALUE=DURATION:PT1H
X-Robots-Tag:noindex
X-PUBLISHED-TTL:PT1H
BEGIN:VTIMEZONE
TZID:Europe/Paris
BEGIN:DAYLIGHT
TZOFFSETFROM:+0100
TZOFFSETTO:+0200
TZNAME:CEST
DTSTART:19970330T010000
END:DAYLIGHT
BEGIN:STANDARD
TZOFFSETFROM:+0200
TZOFFSETTO:+0100
TZNAME:CET
DTSTART:19971026T010000
END:STANDARD
BEGIN:DAYLIGHT
TZOFFSETFROM:+0100
TZOFFSETTO:+0200
TZNAME:CEST
DTSTART:19980329T010000
END:DAYLIGHT
BEGIN:STANDARD
TZOFFSETFROM:+0200
TZOFFSETTO:+0100
TZNAME:CET
DTSTART:19981025T010000
END:STANDARD
BEGIN:DAYLIGHT
TZOFFSETFROM:+0100
TZOFFSETTO:+0200
TZNAME:CEST
DTSTART:19990328T010000
END:DAYLIGHT
BEGIN:STANDARD
TZOFFSETFROM:+0200
TZOFFSETTO:+0100
TZNAME:CET
DTSTART:19991031T010000
END:STANDARD
END:VTIMEZONE
BEGIN:VEVENT
DTSTART;TZID=Europe/Paris:19980522T080000
DTEND;TZID=Europe/Paris:19980522T170000
DTSTAMP:20260421T115859
CREATED:20190730T112255Z
LAST-MODIFIED:20251120T160316Z
UID:1874-895824000-895856400@aspekte-salzburg.com
SUMMARY:Konzert I
DESCRIPTION:Programm\nSongs of(f) Stage (UA)\nMauricio Kagel gewidmet \n  \nMitwirkende\n  \nHelmi Vent\, Konzept\, szenische Komposition und Inszenierung \nTANZ-MUSIK-WERKSTATT \nHochschule Mozarteum \nRegina Blaschek\nBirgit Grössl\nBernard Lutz\nAlexander Pesold\nMatthias Reichert\nElisabeth Riegler\nElena Rieser\nMiriam Stärk\nSabine Stoiber\nYuko Sato\nWili Weissenbrunner \nRichard Flür\, Violine \nChristine Hornef\, Klavier \nLauren Newton\, Stimme \nChris Amrhein\, Technische Gesamtleitung
URL:https://aspekte-salzburg.com/konzert/konzert-i-6/
LOCATION:Großes Studio\, Universität Mozarteum\, Mirabellplatz 1\, Salzburg\, 5020
END:VEVENT
END:VCALENDAR