BEGIN:VCALENDAR
VERSION:2.0
PRODID:-//aspekte SALZBURG - ECPv6.15.14//NONSGML v1.0//EN
CALSCALE:GREGORIAN
METHOD:PUBLISH
X-WR-CALNAME:aspekte SALZBURG
X-ORIGINAL-URL:https://aspekte-salzburg.com
X-WR-CALDESC:Veranstaltungen für aspekte SALZBURG
REFRESH-INTERVAL;VALUE=DURATION:PT1H
X-Robots-Tag:noindex
X-PUBLISHED-TTL:PT1H
BEGIN:VTIMEZONE
TZID:Europe/Paris
BEGIN:DAYLIGHT
TZOFFSETFROM:+0100
TZOFFSETTO:+0200
TZNAME:CEST
DTSTART:20130331T010000
END:DAYLIGHT
BEGIN:STANDARD
TZOFFSETFROM:+0200
TZOFFSETTO:+0100
TZNAME:CET
DTSTART:20131027T010000
END:STANDARD
BEGIN:DAYLIGHT
TZOFFSETFROM:+0100
TZOFFSETTO:+0200
TZNAME:CEST
DTSTART:20140330T010000
END:DAYLIGHT
BEGIN:STANDARD
TZOFFSETFROM:+0200
TZOFFSETTO:+0100
TZNAME:CET
DTSTART:20141026T010000
END:STANDARD
BEGIN:DAYLIGHT
TZOFFSETFROM:+0100
TZOFFSETTO:+0200
TZNAME:CEST
DTSTART:20150329T010000
END:DAYLIGHT
BEGIN:STANDARD
TZOFFSETFROM:+0200
TZOFFSETTO:+0100
TZNAME:CET
DTSTART:20151025T010000
END:STANDARD
END:VTIMEZONE
BEGIN:VEVENT
DTSTART;TZID=Europe/Paris:20140514T190000
DTEND;TZID=Europe/Paris:20140514T190000
DTSTAMP:20260421T120148
CREATED:20190613T113048Z
LAST-MODIFIED:20251120T154558Z
UID:1294-1400094000-1400094000@aspekte-salzburg.com
SUMMARY:Konzert I | ICE project part 1
DESCRIPTION:Programm\n\nThe Tempest\, a masque \nfür Flöte\, Klarinette/Bassklarinette\, Schlagwerk (2012) \n(Österreichische Erstaufführung) \n  \nShadowgraph für Ensemble (1975-77) \n  \nCanon to Stravinsky in memoriam \nfür Flöte\, Klarinette\, Fagott und Viola (1972) \n(Österreichische Erstaufführung) \n  \nSelections from „Book of Heads“ für Gitarre (1978) \n  \nMagnets!!! \nfür Violine\, Viola\, Cello\, Gitarre\, Klarinette und Percussion (2014) \n(Europäische Erstaufführung) \n  \nBaudelaires \nfür Flöte/Bassflöte\, Bassklarinette\, Fagott\, Cembalo\, Gitarre\, Violine\, Viola und Cello (2013) \n(Österreichische Erstaufführung) \n  \npart I. Paris Spleen \npart II. Flowers of Evil \npart III: Artificial Paradises \n  \nMitwirkende \nJohn Zorn\, George Lewis\, Sam Pluta\,
URL:https://aspekte-salzburg.com/konzert/konzert-i-ice-project-part-1/
LOCATION:Kavernen 1595\, Gstättengasse 27–29\, Salzburg\, 5020\, Österreich
CATEGORIES:Aspekte 2014
END:VEVENT
END:VCALENDAR