BEGIN:VCALENDAR
VERSION:2.0
PRODID:-//aspekte SALZBURG - ECPv6.15.14//NONSGML v1.0//EN
CALSCALE:GREGORIAN
METHOD:PUBLISH
X-WR-CALNAME:aspekte SALZBURG
X-ORIGINAL-URL:https://aspekte-salzburg.com
X-WR-CALDESC:Veranstaltungen für aspekte SALZBURG
REFRESH-INTERVAL;VALUE=DURATION:PT1H
X-Robots-Tag:noindex
X-PUBLISHED-TTL:PT1H
BEGIN:VTIMEZONE
TZID:Europe/Paris
BEGIN:DAYLIGHT
TZOFFSETFROM:+0100
TZOFFSETTO:+0200
TZNAME:CEST
DTSTART:20000326T010000
END:DAYLIGHT
BEGIN:STANDARD
TZOFFSETFROM:+0200
TZOFFSETTO:+0100
TZNAME:CET
DTSTART:20001029T010000
END:STANDARD
BEGIN:DAYLIGHT
TZOFFSETFROM:+0100
TZOFFSETTO:+0200
TZNAME:CEST
DTSTART:20010325T010000
END:DAYLIGHT
BEGIN:STANDARD
TZOFFSETFROM:+0200
TZOFFSETTO:+0100
TZNAME:CET
DTSTART:20011028T010000
END:STANDARD
BEGIN:DAYLIGHT
TZOFFSETFROM:+0100
TZOFFSETTO:+0200
TZNAME:CEST
DTSTART:20020331T010000
END:DAYLIGHT
BEGIN:STANDARD
TZOFFSETFROM:+0200
TZOFFSETTO:+0100
TZNAME:CET
DTSTART:20021027T010000
END:STANDARD
END:VTIMEZONE
BEGIN:VEVENT
DTSTART;TZID=Europe/Paris:20010228T190000
DTEND;TZID=Europe/Paris:20010228T190000
DTSTAMP:20260421T120324
CREATED:20190726T065559Z
LAST-MODIFIED:20260119T151447Z
UID:1804-983386800-983386800@aspekte-salzburg.com
SUMMARY:Konzert I | Preisträgerkonzert I
DESCRIPTION:Programm\nJavier Parrado\, Sendas Lunares (Mondpfade)\nfür Sologitarre \nLuis Ochoa\, Elegia\nfür Sologitarre \nRodrigo Durán Carrasco\, Drei Landschaften\nfür Gitarre\, kolumbianische Tiple\, Flöte\, Oboe\, Violoncello und Kontrabass \nJavier Farías Caballero\, Konzert für Gitarre und Instrumentalgruppe\nfür Gitarre\, Flöte\, Klarinette\, Saxophon\, Fagott\, Viola\, Kontrabass und zwei Schlagzeuger \n  \nMitwirkende\nJoaquín Clerch Díaz\, Gitarre \nJavier Pedra\, Tiple \nAspekte New Music Ensemble\nKai Röhrig\, Leitung
URL:https://aspekte-salzburg.com/konzert/konzert-i-preistraegerkonzert-des-kompositionswettbewerbes/
LOCATION:SEAD\, Schallmoser Hauptstr. 48\, Salzburg\, 5020
CATEGORIES:Spielräume
END:VEVENT
END:VCALENDAR