BEGIN:VCALENDAR
VERSION:2.0
PRODID:-//aspekte SALZBURG - ECPv6.15.14//NONSGML v1.0//EN
CALSCALE:GREGORIAN
METHOD:PUBLISH
X-WR-CALNAME:aspekte SALZBURG
X-ORIGINAL-URL:https://aspekte-salzburg.com
X-WR-CALDESC:Veranstaltungen für aspekte SALZBURG
REFRESH-INTERVAL;VALUE=DURATION:PT1H
X-Robots-Tag:noindex
X-PUBLISHED-TTL:PT1H
BEGIN:VTIMEZONE
TZID:Europe/Paris
BEGIN:DAYLIGHT
TZOFFSETFROM:+0100
TZOFFSETTO:+0200
TZNAME:CEST
DTSTART:20090329T010000
END:DAYLIGHT
BEGIN:STANDARD
TZOFFSETFROM:+0200
TZOFFSETTO:+0100
TZNAME:CET
DTSTART:20091025T010000
END:STANDARD
BEGIN:DAYLIGHT
TZOFFSETFROM:+0100
TZOFFSETTO:+0200
TZNAME:CEST
DTSTART:20100328T010000
END:DAYLIGHT
BEGIN:STANDARD
TZOFFSETFROM:+0200
TZOFFSETTO:+0100
TZNAME:CET
DTSTART:20101031T010000
END:STANDARD
BEGIN:DAYLIGHT
TZOFFSETFROM:+0100
TZOFFSETTO:+0200
TZNAME:CEST
DTSTART:20110327T010000
END:DAYLIGHT
BEGIN:STANDARD
TZOFFSETFROM:+0200
TZOFFSETTO:+0100
TZNAME:CET
DTSTART:20111030T010000
END:STANDARD
END:VTIMEZONE
BEGIN:VEVENT
DTSTART;TZID=Europe/Paris:20100526T193000
DTEND;TZID=Europe/Paris:20100526T193000
DTSTAMP:20260421T104655
CREATED:20190718T064104Z
LAST-MODIFIED:20251120T155610Z
UID:1615-1274902200-1274902200@aspekte-salzburg.com
SUMMARY:Konzert I | Sonnengesang
DESCRIPTION:Programm\n  \nSofia Gubaidulina (*1931)\, De Profundis für Bajan solo (1978) \nMichael Mautner (*1959)\, finis amplius africae\, Rappresentazione für Oktett\n(Uraufführung der Neufassung\, Auftragswerk der Aspekte Salzburg) \nSofia Gubaidulina\, Sonnengesang\nfür Violoncello\, Kammerchor und Schlagwerk (1997) \n  \nMitwirkende\n  \noenm. oesterreichisches ensemble für neue musik \nAndreas Schablas\, Klarinette\nZarko Perisic\, Fagott\nWilli Schwaiger\, Horn\nMarianne Riehle\, 1. Violine\nIzso Bajusz\, 2. Violine\nPredrag Katanic\, Viola\nPeter Sigl\, Violoncello\nAleksander Gabrys\, Kontrabass\nOswald Sallaberger\, Dirigent \n  \nChorus sine nomine \nSopran:\nSabine Federspieler\nElisabeth Führer\nMonika Hiemetsberger\nTina Hofer-Leeb\nMarguerite Klein-Soukop\nMarie-Antoniette Stabentheiner\nBarbara Schandl \nAlt:\nRita Eichlehner\nHelenka Fleischmannova\nRoswita Gross\nDoris Haßlinger\nEvelin Kletzer\nAstrid Krammer\nRita Peterl \nTenor:\nMartin Astenwald\nMartin Gross\nMartin Hofe\nHelmut Simmer\nCsongor Szanto\nNorbert Waldek\nBass: Christoph Brandner\nGerhard Hemedinger\nMalte Puls\nThomas Schweiger\nMicha Sengschmid\nAndreas Weiser \nJohannes Hiemetsberger\, Dirigent\nKarin Küstner\, Bajan\nJosef Gumpinger\, David Panzl\, Schlagwerk\nIstván Mátyás\, Celesta
URL:https://aspekte-salzburg.com/konzert/konzert-i-sonnengesang/
LOCATION:Müllner Kirche\, Augustinergasse 4\, Salzburg\, 5020\, Österreich
END:VEVENT
END:VCALENDAR