BEGIN:VCALENDAR
VERSION:2.0
PRODID:-//aspekte SALZBURG - ECPv6.15.14//NONSGML v1.0//EN
CALSCALE:GREGORIAN
METHOD:PUBLISH
X-WR-CALNAME:aspekte SALZBURG
X-ORIGINAL-URL:https://aspekte-salzburg.com
X-WR-CALDESC:Veranstaltungen für aspekte SALZBURG
REFRESH-INTERVAL;VALUE=DURATION:PT1H
X-Robots-Tag:noindex
X-PUBLISHED-TTL:PT1H
BEGIN:VTIMEZONE
TZID:Europe/Paris
BEGIN:DAYLIGHT
TZOFFSETFROM:+0100
TZOFFSETTO:+0200
TZNAME:CEST
DTSTART:19920329T010000
END:DAYLIGHT
BEGIN:STANDARD
TZOFFSETFROM:+0200
TZOFFSETTO:+0100
TZNAME:CET
DTSTART:19920927T010000
END:STANDARD
BEGIN:DAYLIGHT
TZOFFSETFROM:+0100
TZOFFSETTO:+0200
TZNAME:CEST
DTSTART:19930328T010000
END:DAYLIGHT
BEGIN:STANDARD
TZOFFSETFROM:+0200
TZOFFSETTO:+0100
TZNAME:CET
DTSTART:19930926T010000
END:STANDARD
BEGIN:DAYLIGHT
TZOFFSETFROM:+0100
TZOFFSETTO:+0200
TZNAME:CEST
DTSTART:19940327T010000
END:DAYLIGHT
BEGIN:STANDARD
TZOFFSETFROM:+0200
TZOFFSETTO:+0100
TZNAME:CET
DTSTART:19940925T010000
END:STANDARD
END:VTIMEZONE
BEGIN:VEVENT
DTSTART;TZID=Europe/Paris:19930417T200000
DTEND;TZID=Europe/Paris:19930417T200000
DTSTAMP:20260421T121833
CREATED:20190806T071747Z
LAST-MODIFIED:20251120T160714Z
UID:2017-735076800-735076800@aspekte-salzburg.com
SUMMARY:Konzert II
DESCRIPTION:Programm\nRomuald Kalson\, Diachi Quazi\nfür Klarinette und Violoncello \nRaimo Kangro\, Tandem con Gioconda \nMati Culberg\, Fünf Estnische Volksmelodien\nfür Klarinette\, Viola und Violoncello \nVidmantas Bartulis\, De Profundis (1988)\nQuintett für Violine\, Viola\, Klarinette\, Violoncello und Klavier \n  \nMitwirkende\nKevishas Chamber Music Ensemble Litauen\nVilija Talimaa\, Violine\nAlgis Nemanis\, Viola\nEdmundas Kulikauskas\, Violoncello\nJulius Cernius\, Klarinette\nGintautas Kevishas\, Klavier
URL:https://aspekte-salzburg.com/konzert/konzert-ii-11/
LOCATION:Großes Studio\, Universität Mozarteum\, Mirabellplatz 1\, Salzburg\, 5020
END:VEVENT
END:VCALENDAR