BEGIN:VCALENDAR
VERSION:2.0
PRODID:-//aspekte SALZBURG - ECPv6.15.14//NONSGML v1.0//EN
CALSCALE:GREGORIAN
METHOD:PUBLISH
X-WR-CALNAME:aspekte SALZBURG
X-ORIGINAL-URL:https://aspekte-salzburg.com
X-WR-CALDESC:Veranstaltungen für aspekte SALZBURG
REFRESH-INTERVAL;VALUE=DURATION:PT1H
X-Robots-Tag:noindex
X-PUBLISHED-TTL:PT1H
BEGIN:VTIMEZONE
TZID:Europe/Paris
BEGIN:DAYLIGHT
TZOFFSETFROM:+0100
TZOFFSETTO:+0200
TZNAME:CEST
DTSTART:19890326T010000
END:DAYLIGHT
BEGIN:STANDARD
TZOFFSETFROM:+0200
TZOFFSETTO:+0100
TZNAME:CET
DTSTART:19890924T010000
END:STANDARD
BEGIN:DAYLIGHT
TZOFFSETFROM:+0100
TZOFFSETTO:+0200
TZNAME:CEST
DTSTART:19900325T010000
END:DAYLIGHT
BEGIN:STANDARD
TZOFFSETFROM:+0200
TZOFFSETTO:+0100
TZNAME:CET
DTSTART:19900930T010000
END:STANDARD
BEGIN:DAYLIGHT
TZOFFSETFROM:+0100
TZOFFSETTO:+0200
TZNAME:CEST
DTSTART:19910331T010000
END:DAYLIGHT
BEGIN:STANDARD
TZOFFSETFROM:+0200
TZOFFSETTO:+0100
TZNAME:CET
DTSTART:19910929T010000
END:STANDARD
END:VTIMEZONE
BEGIN:VEVENT
DTSTART;TZID=Europe/Paris:19900610T200000
DTEND;TZID=Europe/Paris:19900610T200000
DTSTAMP:20260421T120037
CREATED:20190809T055139Z
LAST-MODIFIED:20251120T161056Z
UID:2115-645048000-645048000@aspekte-salzburg.com
SUMMARY:Konzert II
DESCRIPTION:Programm\nGalina Ustvolskaya\, Trio (1949\, rev. 1975\, ÖE)\nfür Violine\, Klarinette und Klavier\nEspressivo\nDolce\nEnergico \nMiriam Gideon\, Poet to Poet (1987\, ÖE)\nAn Ode for Ben Jonson (1572-1637)\nText: Robert Herrick (1591-1674)\nTo Thomas Moore (1779-1852)\nText: Lord Byron (1788-1824)\nAve atque vale: in memory of C. Baudelaire (1821-1867)\nText: Algernon Charles Swinburne (1837-1909) \nJoan Tower\, Wings (1981\, ÖE)\nfür Klarinette solo \nJoan La Barbara\, Time (d)Trials and Unscheduled Events (1984/87\, ÖE)\nfür Stimme und Tonband \nBun-Ching Lam\, Bittersweet Music II (1981\, ÖE)\nfür Violine solo \nUrsula Mamlok\, Rhapsody (1989\, ÖE)\nfür Klarinette\, Viola und Klavier \nJudith Weir\, The Art of Touching the Keyboard (1983)\nfür Klavier solo \nHagar Kadima\, Sounds (1983\, ÖE)\nfür 5 Sprecher \n  \nMitwirkende\nEnsemble Continuum \nCheryl Steltzer\, Leitung/Klavier \nJoel Sachs\, Leitung/Klavier/Dirigent \nNan Hughes\, Sopran \nDavid Krakauer\, Klarinette/Bassklarinette \nMia Wu\, Violine \n 
URL:https://aspekte-salzburg.com/konzert/konzert-ii-14/
LOCATION:Künstlerhaus\, Hellbrunner Str. 3\, Salzburg\, 5020
END:VEVENT
END:VCALENDAR