BEGIN:VCALENDAR
VERSION:2.0
PRODID:-//aspekte SALZBURG - ECPv6.15.14//NONSGML v1.0//EN
CALSCALE:GREGORIAN
METHOD:PUBLISH
X-WR-CALNAME:aspekte SALZBURG
X-ORIGINAL-URL:https://aspekte-salzburg.com
X-WR-CALDESC:Veranstaltungen für aspekte SALZBURG
REFRESH-INTERVAL;VALUE=DURATION:PT1H
X-Robots-Tag:noindex
X-PUBLISHED-TTL:PT1H
BEGIN:VTIMEZONE
TZID:Europe/Paris
BEGIN:DAYLIGHT
TZOFFSETFROM:+0100
TZOFFSETTO:+0200
TZNAME:CEST
DTSTART:19880327T010000
END:DAYLIGHT
BEGIN:STANDARD
TZOFFSETFROM:+0200
TZOFFSETTO:+0100
TZNAME:CET
DTSTART:19880925T010000
END:STANDARD
BEGIN:DAYLIGHT
TZOFFSETFROM:+0100
TZOFFSETTO:+0200
TZNAME:CEST
DTSTART:19890326T010000
END:DAYLIGHT
BEGIN:STANDARD
TZOFFSETFROM:+0200
TZOFFSETTO:+0100
TZNAME:CET
DTSTART:19890924T010000
END:STANDARD
BEGIN:DAYLIGHT
TZOFFSETFROM:+0100
TZOFFSETTO:+0200
TZNAME:CEST
DTSTART:19900325T010000
END:DAYLIGHT
BEGIN:STANDARD
TZOFFSETFROM:+0200
TZOFFSETTO:+0100
TZNAME:CET
DTSTART:19900930T010000
END:STANDARD
END:VTIMEZONE
BEGIN:VEVENT
DTSTART;TZID=Europe/Paris:19890430T110000
DTEND;TZID=Europe/Paris:19890430T110000
DTSTAMP:20260421T120037
CREATED:20190812T085121Z
LAST-MODIFIED:20251120T161214Z
UID:2146-609937200-609937200@aspekte-salzburg.com
SUMMARY:Konzert II
DESCRIPTION:Programm\nAlois Hába\, Streichquartett Nr. 14 op. 94 (1963) \nJean Etienne Marie\, Tombeau de Julian Carrillo \nJean Etienne Marie\, Trois pièces brèves für Dritteltonklavier \nIvan Wyschnegradsky\, Prélude et Etude pour le piano à tiers de ton de Julian Carrillo \nJulian Carillo\, Balbuceos für 16tel-Tonklavier und Kammerorchester \n  \nMitwirkende\nHába-Quartett\nPeter Zelenka\, Violine\nJörg Assmann\, Violine\nBernd Rinne\, Viola\nOnno Hokema\, Violoncello \nMartine Joste\, Klavier \nJean Etienne Marie\, Klavier \nKammerorchester der Hochschule Mozarteum\nJorge Rotter\, Leitung
URL:https://aspekte-salzburg.com/konzert/konzert-ii-15/
LOCATION:Großes Studio\, Universität Mozarteum\, Mirabellplatz 1\, Salzburg\, 5020
END:VEVENT
END:VCALENDAR