BEGIN:VCALENDAR
VERSION:2.0
PRODID:-//aspekte SALZBURG - ECPv6.15.14//NONSGML v1.0//EN
CALSCALE:GREGORIAN
METHOD:PUBLISH
X-WR-CALNAME:aspekte SALZBURG
X-ORIGINAL-URL:https://aspekte-salzburg.com
X-WR-CALDESC:Veranstaltungen für aspekte SALZBURG
REFRESH-INTERVAL;VALUE=DURATION:PT1H
X-Robots-Tag:noindex
X-PUBLISHED-TTL:PT1H
BEGIN:VTIMEZONE
TZID:Europe/Paris
BEGIN:DAYLIGHT
TZOFFSETFROM:+0100
TZOFFSETTO:+0200
TZNAME:CEST
DTSTART:19790401T010000
END:DAYLIGHT
BEGIN:STANDARD
TZOFFSETFROM:+0200
TZOFFSETTO:+0100
TZNAME:CET
DTSTART:19790930T010000
END:STANDARD
BEGIN:DAYLIGHT
TZOFFSETFROM:+0100
TZOFFSETTO:+0200
TZNAME:CEST
DTSTART:19800406T010000
END:DAYLIGHT
BEGIN:STANDARD
TZOFFSETFROM:+0200
TZOFFSETTO:+0100
TZNAME:CET
DTSTART:19800928T010000
END:STANDARD
BEGIN:DAYLIGHT
TZOFFSETFROM:+0100
TZOFFSETTO:+0200
TZNAME:CEST
DTSTART:19810329T010000
END:DAYLIGHT
BEGIN:STANDARD
TZOFFSETFROM:+0200
TZOFFSETTO:+0100
TZNAME:CET
DTSTART:19810927T010000
END:STANDARD
END:VTIMEZONE
BEGIN:VEVENT
DTSTART;TZID=Europe/Paris:19800605T190000
DTEND;TZID=Europe/Paris:19800605T190000
DTSTAMP:20260421T105936
CREATED:20190827T094255Z
LAST-MODIFIED:20251120T152600Z
UID:2379-329079600-329079600@aspekte-salzburg.com
SUMMARY:Konzert II
DESCRIPTION:Programm\nJenö Takacs\, Tagebuch–Fragmente op. 93\nfür 2 Klaviere und Schlagwerk \nTamas Ungvary\, Sinus–Coitus (Soloversion\, UA)\nfür Tonband und Klavier \nHerbert Grassl\, Musik für 2 Klaviere und Schlaginstrumente (UA) \nJohn Cage\, Music Walk for 1 or more pianists at a single piano\, using also radio and/or recordings \n  \nMitwirkende\nAndor Losonczy\, Klavier \nAlexander Mullenbach\, Klavier \nRobert Hutya\, Schlagzeug \nElemer Tarjan\, Schlagzeug
URL:https://aspekte-salzburg.com/konzert/konzert-ii-23/
LOCATION:Leopold Mozart Saal\, Mirabellplatz 1\, Salzburg\, 5020
END:VEVENT
END:VCALENDAR