BEGIN:VCALENDAR
VERSION:2.0
PRODID:-//aspekte SALZBURG - ECPv6.15.14//NONSGML v1.0//EN
CALSCALE:GREGORIAN
METHOD:PUBLISH
X-WR-CALNAME:aspekte SALZBURG
X-ORIGINAL-URL:https://aspekte-salzburg.com
X-WR-CALDESC:Veranstaltungen für aspekte SALZBURG
REFRESH-INTERVAL;VALUE=DURATION:PT1H
X-Robots-Tag:noindex
X-PUBLISHED-TTL:PT1H
BEGIN:VTIMEZONE
TZID:Europe/Paris
BEGIN:DAYLIGHT
TZOFFSETFROM:+0100
TZOFFSETTO:+0200
TZNAME:CEST
DTSTART:19780402T010000
END:DAYLIGHT
BEGIN:STANDARD
TZOFFSETFROM:+0200
TZOFFSETTO:+0100
TZNAME:CET
DTSTART:19781001T010000
END:STANDARD
BEGIN:DAYLIGHT
TZOFFSETFROM:+0100
TZOFFSETTO:+0200
TZNAME:CEST
DTSTART:19790401T010000
END:DAYLIGHT
BEGIN:STANDARD
TZOFFSETFROM:+0200
TZOFFSETTO:+0100
TZNAME:CET
DTSTART:19790930T010000
END:STANDARD
BEGIN:DAYLIGHT
TZOFFSETFROM:+0100
TZOFFSETTO:+0200
TZNAME:CEST
DTSTART:19800406T010000
END:DAYLIGHT
BEGIN:STANDARD
TZOFFSETFROM:+0200
TZOFFSETTO:+0100
TZNAME:CET
DTSTART:19800928T010000
END:STANDARD
END:VTIMEZONE
BEGIN:VEVENT
DTSTART;TZID=Europe/Paris:19790614T210000
DTEND;TZID=Europe/Paris:19790614T210000
DTSTAMP:20260421T120037
CREATED:20191118T133714Z
LAST-MODIFIED:20251120T152629Z
UID:2554-298242000-298242000@aspekte-salzburg.com
SUMMARY:Konzert II
DESCRIPTION:Programm\nArnold Schönberg\, Pierrot Lunaire op. 21 \ndreimal sieben Gedichte von Albert Giraud \nDeutsch von Otto Erich Hartleben \n  \nFranco Donatoni\, etwas ruhiger im Ausdruck \n  \nKlaus Ager\, la regle du Jeu \n(Text: Francisco Tanzer) \n  \nMitwirkende\nÖsterreichisches Ensembles für Neue Musik \nElisabeth Spang\, Flöte \nCarol Bauer\, Es-Karinette \nFerenc Tornai\, Karinette und Baßklarinette \nKlaus Ager\, Schlagzeug \nAndor Losonczy\, Klavier \nLynn Blakesly\, Violine und Viola \nDakwart Gahl\, Violoncello \nRoswitha Trexler\, Sopran \nWolfgang Seelinger\, Leitung: \n 
URL:https://aspekte-salzburg.com/konzert/konzert-ii-26/
LOCATION:Petersbrunnhof\, Erzabt-Klotz-Str. 22\, Salzburg\, 5020
END:VEVENT
END:VCALENDAR