BEGIN:VCALENDAR
VERSION:2.0
PRODID:-//aspekte SALZBURG - ECPv6.15.14//NONSGML v1.0//EN
CALSCALE:GREGORIAN
METHOD:PUBLISH
X-WR-CALNAME:aspekte SALZBURG
X-ORIGINAL-URL:https://aspekte-salzburg.com
X-WR-CALDESC:Veranstaltungen für aspekte SALZBURG
REFRESH-INTERVAL;VALUE=DURATION:PT1H
X-Robots-Tag:noindex
X-PUBLISHED-TTL:PT1H
BEGIN:VTIMEZONE
TZID:Europe/Paris
BEGIN:DAYLIGHT
TZOFFSETFROM:+0100
TZOFFSETTO:+0200
TZNAME:CEST
DTSTART:19850331T010000
END:DAYLIGHT
BEGIN:STANDARD
TZOFFSETFROM:+0200
TZOFFSETTO:+0100
TZNAME:CET
DTSTART:19850929T010000
END:STANDARD
BEGIN:DAYLIGHT
TZOFFSETFROM:+0100
TZOFFSETTO:+0200
TZNAME:CEST
DTSTART:19860330T010000
END:DAYLIGHT
BEGIN:STANDARD
TZOFFSETFROM:+0200
TZOFFSETTO:+0100
TZNAME:CET
DTSTART:19860928T010000
END:STANDARD
BEGIN:DAYLIGHT
TZOFFSETFROM:+0100
TZOFFSETTO:+0200
TZNAME:CEST
DTSTART:19870329T010000
END:DAYLIGHT
BEGIN:STANDARD
TZOFFSETFROM:+0200
TZOFFSETTO:+0100
TZNAME:CET
DTSTART:19870927T010000
END:STANDARD
END:VTIMEZONE
BEGIN:VEVENT
DTSTART;TZID=Europe/Paris:19860507T200000
DTEND;TZID=Europe/Paris:19860507T200000
DTSTAMP:20260421T120038
CREATED:20191118T144505Z
LAST-MODIFIED:20251120T161459Z
UID:2573-515880000-515880000@aspekte-salzburg.com
SUMMARY:Konzert II
DESCRIPTION:Programm\nBruno Maderna\, Serenata per un satellite (1969)\nFassung für Flöte\, Oboe\, Klarinette\, Violine u. Marimbaphon v. Claudio Ambrosini \nLuigi Nono ..sofferte onde serene… (1976)\nfür Klavier u. Tonband \nFranco Donatoni\, Studio (1971)\nfür Oboe \nGoffredo Petrassi\, Tre per sette (1966)\nfür Flöte – auch Piccolo u. Flöte in G – Oboe – auch Englischhorn -\, Klarinette – auch Es-Klarinette \nAldo Clementi\, Scherzo (1985)\nfür Flöte\, Violine\, Violoncello und Klarinette ÖE \nLuciano Berio\, Lied (1983)\nfür Klarinette \nClaudio Ambrosiani\, De vulgari eloquentia (1984)\nfür Flöte\, Klarinette\, Violine – und Bratsche -\, Violoncello und Klavier \n  \nMitwirkende\nEX NOVO ENSEMBLE DI VENEZIA \nAldo Orvieto\, Klavier \nDaniele Ruggieri\, Flöte \nPierluigi Fabretti\, Oboe \nDavide Teodoro\, Klarinette \nCarlo Lazari\, Violine und Bratsche \nCarlo Teodoro\, Violoncello \nAnnunziata Dellisanti\, Schlagzeug \nClaudio Ambrosini\, Leitung
URL:https://aspekte-salzburg.com/konzert/konzert-ii-27/
LOCATION:Großes Studio\, Universität Mozarteum\, Mirabellplatz 1\, Salzburg\, 5020
END:VEVENT
END:VCALENDAR