BEGIN:VCALENDAR
VERSION:2.0
PRODID:-//aspekte SALZBURG - ECPv6.15.14//NONSGML v1.0//EN
CALSCALE:GREGORIAN
METHOD:PUBLISH
X-WR-CALNAME:aspekte SALZBURG
X-ORIGINAL-URL:https://aspekte-salzburg.com
X-WR-CALDESC:Veranstaltungen für aspekte SALZBURG
REFRESH-INTERVAL;VALUE=DURATION:PT1H
X-Robots-Tag:noindex
X-PUBLISHED-TTL:PT1H
BEGIN:VTIMEZONE
TZID:Europe/Paris
BEGIN:DAYLIGHT
TZOFFSETFROM:+0100
TZOFFSETTO:+0200
TZNAME:CEST
DTSTART:19990328T010000
END:DAYLIGHT
BEGIN:STANDARD
TZOFFSETFROM:+0200
TZOFFSETTO:+0100
TZNAME:CET
DTSTART:19991031T010000
END:STANDARD
BEGIN:DAYLIGHT
TZOFFSETFROM:+0100
TZOFFSETTO:+0200
TZNAME:CEST
DTSTART:20000326T010000
END:DAYLIGHT
BEGIN:STANDARD
TZOFFSETFROM:+0200
TZOFFSETTO:+0100
TZNAME:CET
DTSTART:20001029T010000
END:STANDARD
BEGIN:DAYLIGHT
TZOFFSETFROM:+0100
TZOFFSETTO:+0200
TZNAME:CEST
DTSTART:20010325T010000
END:DAYLIGHT
BEGIN:STANDARD
TZOFFSETFROM:+0200
TZOFFSETTO:+0100
TZNAME:CET
DTSTART:20011028T010000
END:STANDARD
END:VTIMEZONE
BEGIN:VEVENT
DTSTART;TZID=Europe/Paris:20000301T190000
DTEND;TZID=Europe/Paris:20000301T190000
DTSTAMP:20260421T104648
CREATED:20190726T102741Z
LAST-MODIFIED:20251120T160154Z
UID:1828-951937200-951937200@aspekte-salzburg.com
SUMMARY:Konzert II
DESCRIPTION:Programm\nAlfred Schnittke (1934-1998)\, Triosonate für Streichorchester (1985)\n(arr. von Y. Baschmet nach dem Streichtrio von A. Schnittke) \nI. Moderato – Andantino\nII. Adagio – Moderato – Adagio – Andantino \nGiya Kancheli (*1935)\, Valse Boston für Klavier und Streichorchester (1996) \nDmitrij Schostakowitsch (1906-1975)\nKammersinfonie op. 110 a\n(nach dem Streichquartett No. 8\, instrumentiert von R. Barschai „Den Opfern des Faschismus zum Gedenken”)\nLargo\nAllegro molto\nAllegretto\nLargo\nLargo \n  \nMitwirkende\nStuttgarter Kammerorchester \nDennis Russell Davies\, Dirigent und Solist
URL:https://aspekte-salzburg.com/konzert/konzert-ii-4/
LOCATION:Stiftung Mozarteum\, Großer Saal\, Schwarzstraße 28\, Salzburg\, 5020
END:VEVENT
END:VCALENDAR