BEGIN:VCALENDAR
VERSION:2.0
PRODID:-//aspekte SALZBURG - ECPv6.15.14//NONSGML v1.0//EN
CALSCALE:GREGORIAN
METHOD:PUBLISH
X-WR-CALNAME:aspekte SALZBURG
X-ORIGINAL-URL:https://aspekte-salzburg.com
X-WR-CALDESC:Veranstaltungen für aspekte SALZBURG
REFRESH-INTERVAL;VALUE=DURATION:PT1H
X-Robots-Tag:noindex
X-PUBLISHED-TTL:PT1H
BEGIN:VTIMEZONE
TZID:Europe/Paris
BEGIN:DAYLIGHT
TZOFFSETFROM:+0100
TZOFFSETTO:+0200
TZNAME:CEST
DTSTART:20130331T010000
END:DAYLIGHT
BEGIN:STANDARD
TZOFFSETFROM:+0200
TZOFFSETTO:+0100
TZNAME:CET
DTSTART:20131027T010000
END:STANDARD
BEGIN:DAYLIGHT
TZOFFSETFROM:+0100
TZOFFSETTO:+0200
TZNAME:CEST
DTSTART:20140330T010000
END:DAYLIGHT
BEGIN:STANDARD
TZOFFSETFROM:+0200
TZOFFSETTO:+0100
TZNAME:CET
DTSTART:20141026T010000
END:STANDARD
BEGIN:DAYLIGHT
TZOFFSETFROM:+0100
TZOFFSETTO:+0200
TZNAME:CEST
DTSTART:20150329T010000
END:DAYLIGHT
BEGIN:STANDARD
TZOFFSETFROM:+0200
TZOFFSETTO:+0100
TZNAME:CET
DTSTART:20151025T010000
END:STANDARD
END:VTIMEZONE
BEGIN:VEVENT
DTSTART;TZID=Europe/Paris:20140514T210000
DTEND;TZID=Europe/Paris:20140514T210000
DTSTAMP:20260421T120205
CREATED:20190613T114640Z
LAST-MODIFIED:20251120T154555Z
UID:1296-1400101200-1400101200@aspekte-salzburg.com
SUMMARY:Konzert II | „brow beaten" (UA)
DESCRIPTION:Programm\nKonzertinstallation von Werner Raditschnig und Gerhard Laber \n5 Music landscapes. A Guide to American culture. Comments in pictures \n  \nMitwirkende\nWerner Raditschnig\, Komposition\, diverse Saiteninstrumente\, Elektronik \nGerhard Laber\, Komposition\, perkussives Instrumentarium\, Elektronik \nEric Arn\, Stimme und Gitarre \nHeike Schäfer\, visuals \nChor\, (8 Männerstimmen – Einstudierung: Martin Fuchsberger)
URL:https://aspekte-salzburg.com/konzert/konzert-ii-brow-beaten-ua/
LOCATION:republic\, Anton-Neumayr-Platz 2\, Salzburg\, 5020\, Österreich
CATEGORIES:Aspekte 2014
END:VEVENT
END:VCALENDAR