BEGIN:VCALENDAR
VERSION:2.0
PRODID:-//aspekte SALZBURG - ECPv6.15.14//NONSGML v1.0//EN
CALSCALE:GREGORIAN
METHOD:PUBLISH
X-WR-CALNAME:aspekte SALZBURG
X-ORIGINAL-URL:https://aspekte-salzburg.com
X-WR-CALDESC:Veranstaltungen für aspekte SALZBURG
REFRESH-INTERVAL;VALUE=DURATION:PT1H
X-Robots-Tag:noindex
X-PUBLISHED-TTL:PT1H
BEGIN:VTIMEZONE
TZID:Europe/Paris
BEGIN:DAYLIGHT
TZOFFSETFROM:+0100
TZOFFSETTO:+0200
TZNAME:CEST
DTSTART:20110327T010000
END:DAYLIGHT
BEGIN:STANDARD
TZOFFSETFROM:+0200
TZOFFSETTO:+0100
TZNAME:CET
DTSTART:20111030T010000
END:STANDARD
BEGIN:DAYLIGHT
TZOFFSETFROM:+0100
TZOFFSETTO:+0200
TZNAME:CEST
DTSTART:20120325T010000
END:DAYLIGHT
BEGIN:STANDARD
TZOFFSETFROM:+0200
TZOFFSETTO:+0100
TZNAME:CET
DTSTART:20121028T010000
END:STANDARD
BEGIN:DAYLIGHT
TZOFFSETFROM:+0100
TZOFFSETTO:+0200
TZNAME:CEST
DTSTART:20130331T010000
END:DAYLIGHT
BEGIN:STANDARD
TZOFFSETFROM:+0200
TZOFFSETTO:+0100
TZNAME:CET
DTSTART:20131027T010000
END:STANDARD
END:VTIMEZONE
BEGIN:VEVENT
DTSTART;TZID=Europe/Paris:20120509T203000
DTEND;TZID=Europe/Paris:20120509T203000
DTSTAMP:20260421T104936
CREATED:20190716T131221Z
LAST-MODIFIED:20251120T155511Z
UID:1579-1336595400-1336595400@aspekte-salzburg.com
SUMMARY:Konzert II | oenm. oesterreichisches ensemble für neue musik\, Johannes Kalitzke
DESCRIPTION:Programm\n  \nKlaus Ager (*1946)\, Bruchstücke für Ensemble\, op. 97 (2011/12)\, UA \nUraufführung finanziert durch die Ernst von Siemens Musikstiftung \n  \nJohannes Kalitzke (*1959)\, Figuren am Horizont – Fünf Nachrufe für Solovioline und 6 Spieler (2011/12) UA \nAuftragswerk des Bayrischen Rundfunks \n  \nSkizze für ein unbewohnbares Haus \nBrennende Uhr \nGebet auf schiefer Ebene \nTravestia de Tristiano \nSkizze für ein Haus im Licht \n  \nAlexandra Karastroyanova-Hermentin (*1968)\, ELIMO (2012)\, UA \nfür Flöte\, Klarinette\, Schlagzeug\, Klavier\, Violine\, Viola und Violoncello \nUraufführung finanziert durch die Ernst von Siemens Musikstiftung \n  \nMitwirkende\n  \noenm. österreichisches ensemble für neue musik \nVera Klug\, Flöte \nAndreas Schablas\, Klarinette \nArabella Hirner\, Schlagwerk \nNora Skuta\, Klavier \nIvana Pristasova\, Violine \nSusanne von Gutzeit\, Viola \nPeter Sigl\, Violoncello \nSebestyén Ludmány\, Violoncello
URL:https://aspekte-salzburg.com/konzert/konzert-ii-oenm-oesterreichisches-ensemble-fuer-neue-musik-johannes-kalitzke/
LOCATION:Solitär\, Universität Mozarteum\, Mirabellplatz 1\, Salzburg\, 5020\, Österreich
END:VEVENT
END:VCALENDAR