BEGIN:VCALENDAR
VERSION:2.0
PRODID:-//aspekte SALZBURG - ECPv6.15.14//NONSGML v1.0//EN
CALSCALE:GREGORIAN
METHOD:PUBLISH
X-WR-CALNAME:aspekte SALZBURG
X-ORIGINAL-URL:https://aspekte-salzburg.com
X-WR-CALDESC:Veranstaltungen für aspekte SALZBURG
REFRESH-INTERVAL;VALUE=DURATION:PT1H
X-Robots-Tag:noindex
X-PUBLISHED-TTL:PT1H
BEGIN:VTIMEZONE
TZID:Europe/Paris
BEGIN:DAYLIGHT
TZOFFSETFROM:+0100
TZOFFSETTO:+0200
TZNAME:CEST
DTSTART:20040328T010000
END:DAYLIGHT
BEGIN:STANDARD
TZOFFSETFROM:+0200
TZOFFSETTO:+0100
TZNAME:CET
DTSTART:20041031T010000
END:STANDARD
BEGIN:DAYLIGHT
TZOFFSETFROM:+0100
TZOFFSETTO:+0200
TZNAME:CEST
DTSTART:20050327T010000
END:DAYLIGHT
BEGIN:STANDARD
TZOFFSETFROM:+0200
TZOFFSETTO:+0100
TZNAME:CET
DTSTART:20051030T010000
END:STANDARD
BEGIN:DAYLIGHT
TZOFFSETFROM:+0100
TZOFFSETTO:+0200
TZNAME:CEST
DTSTART:20060326T010000
END:DAYLIGHT
BEGIN:STANDARD
TZOFFSETFROM:+0200
TZOFFSETTO:+0100
TZNAME:CET
DTSTART:20061029T010000
END:STANDARD
END:VTIMEZONE
BEGIN:VEVENT
DTSTART;TZID=Europe/Paris:20050215T190000
DTEND;TZID=Europe/Paris:20050215T190000
DTSTAMP:20260421T104912
CREATED:20190723T104822Z
LAST-MODIFIED:20260119T151503Z
UID:1704-1108494000-1108494000@aspekte-salzburg.com
SUMMARY:Konzert II | Preisträgerkonzert
DESCRIPTION:Programm\nRodolfo Coelho de Souza\, Serenata\nfür Flöte und Streichquartett\, UA\n2. Preis\nI. Andante-Allegro-Andante\nII. Andantino\nIII. Larghetto-Andantino-Sost.-Adagio-Sostenuto \nMirtu Escalona-Mijares\, Cinco transfiguraciones Ilanas\nfür Flöte solo\, UA\n2. Preis\nI. Conticinio\nII. Danza\nIII. Aroma de Mujer y Flor\nIV. Lejan’a\nV. Por el Camino \nJorge Sad\, La vuelta hacia arriba del aire de la mañana\nfür Flöte und Elektronik \nV’ctor Ibarra Cárdenas\, Son del Pueblo\nfür Flöte und Streichquartett\, UA\nEmpfehlung der Jury \nFernando Maglia\, El otro Amanecer\,\nfür Flöte und Gitarre\, UA\n1. Preis \nShigeru Kan-No\, Latin Molto Follemente\nfür Flöte und Streichquartett\, UA\nEmpfehlung der Jury \n  \nMitwirkende\nLinda Wetherill\, Flöte\nYvonne Zehner\, Gitarre \nLux Quartett\nBojidara Kouzmanova\, Violine\nThomas Wally\, Violine\nJulia Purgina\, Viola\nAgnes Nemeth\, Violoncello \nKai Rörig\, Leitung
URL:https://aspekte-salzburg.com/konzert/konzert-ii-preistraegerkonzert-2/
LOCATION:SEAD\, Schallmoser Hauptstr. 48\, Salzburg\, 5020
CATEGORIES:Spielräume
END:VEVENT
END:VCALENDAR