BEGIN:VCALENDAR
VERSION:2.0
PRODID:-//aspekte SALZBURG - ECPv6.15.14//NONSGML v1.0//EN
CALSCALE:GREGORIAN
METHOD:PUBLISH
X-WR-CALNAME:aspekte SALZBURG
X-ORIGINAL-URL:https://aspekte-salzburg.com
X-WR-CALDESC:Veranstaltungen für aspekte SALZBURG
REFRESH-INTERVAL;VALUE=DURATION:PT1H
X-Robots-Tag:noindex
X-PUBLISHED-TTL:PT1H
BEGIN:VTIMEZONE
TZID:Europe/Paris
BEGIN:DAYLIGHT
TZOFFSETFROM:+0100
TZOFFSETTO:+0200
TZNAME:CEST
DTSTART:20050327T010000
END:DAYLIGHT
BEGIN:STANDARD
TZOFFSETFROM:+0200
TZOFFSETTO:+0100
TZNAME:CET
DTSTART:20051030T010000
END:STANDARD
BEGIN:DAYLIGHT
TZOFFSETFROM:+0100
TZOFFSETTO:+0200
TZNAME:CEST
DTSTART:20060326T010000
END:DAYLIGHT
BEGIN:STANDARD
TZOFFSETFROM:+0200
TZOFFSETTO:+0100
TZNAME:CET
DTSTART:20061029T010000
END:STANDARD
BEGIN:DAYLIGHT
TZOFFSETFROM:+0100
TZOFFSETTO:+0200
TZNAME:CEST
DTSTART:20070325T010000
END:DAYLIGHT
BEGIN:STANDARD
TZOFFSETFROM:+0200
TZOFFSETTO:+0100
TZNAME:CET
DTSTART:20071028T010000
END:STANDARD
END:VTIMEZONE
BEGIN:VEVENT
DTSTART;TZID=Europe/Paris:20060206T190000
DTEND;TZID=Europe/Paris:20060206T190000
DTSTAMP:20260421T104819
CREATED:20190722T130958Z
LAST-MODIFIED:20251120T155806Z
UID:1679-1139252400-1139252400@aspekte-salzburg.com
SUMMARY:Konzert II | Pural Ensemble I
DESCRIPTION:Programm\nSergio Azevedo\, Three American protraits\nfür Flöte\, Klarinette\, Violine\, Cello und Klavier \nFernando Villalueva\, Variaciones del aire II\nfür Flöte\, Klarinette\, Violine\, Cello und Klavier \nFabian Panisello\, Trio II\nfür Violine\, Violoncello und Klavier \nSalvatore Sciarrino\, Trio Nr. 2\nfür Violine\, Violoncello und Klavier \nM. J. Elia\, SIGNALE Streichtrio Nr. 1 (2003)\nfür Violine\, Viola und Violoncello \nJosé Manuel López López\, La pluma de Hú\nfür Flöte\, Klarinette\, Klavier\, Violine I\, Violine II\, Viola und Violoncello \n  \nMitwirkende\nPlural Ensemble (Madrid)\nAlicia Suescun\, Flöte\nCarmen Cano\, Klarinette\nEma Alexeeva\, Violine 1\nDobrochna Banaszkiewicz\, Violine 2\nAna Alonso\, Viola\nDavid Apellániz\, Violoncello\nAlberto Rosado\, Klavier \nFabian Panisello\, Leitung
URL:https://aspekte-salzburg.com/konzert/konzert-ii-pural-ensemble-i/
LOCATION:Große Aula\, Universität Salzburg\, Hofstallgasse 2-4\, Salzburg\, 5020
END:VEVENT
END:VCALENDAR