BEGIN:VCALENDAR
VERSION:2.0
PRODID:-//aspekte SALZBURG - ECPv6.15.14//NONSGML v1.0//EN
CALSCALE:GREGORIAN
METHOD:PUBLISH
X-WR-CALNAME:aspekte SALZBURG
X-ORIGINAL-URL:https://aspekte-salzburg.com
X-WR-CALDESC:Veranstaltungen für aspekte SALZBURG
REFRESH-INTERVAL;VALUE=DURATION:PT1H
X-Robots-Tag:noindex
X-PUBLISHED-TTL:PT1H
BEGIN:VTIMEZONE
TZID:Europe/Paris
BEGIN:DAYLIGHT
TZOFFSETFROM:+0100
TZOFFSETTO:+0200
TZNAME:CEST
DTSTART:19910331T010000
END:DAYLIGHT
BEGIN:STANDARD
TZOFFSETFROM:+0200
TZOFFSETTO:+0100
TZNAME:CET
DTSTART:19910929T010000
END:STANDARD
BEGIN:DAYLIGHT
TZOFFSETFROM:+0100
TZOFFSETTO:+0200
TZNAME:CEST
DTSTART:19920329T010000
END:DAYLIGHT
BEGIN:STANDARD
TZOFFSETFROM:+0200
TZOFFSETTO:+0100
TZNAME:CET
DTSTART:19920927T010000
END:STANDARD
BEGIN:DAYLIGHT
TZOFFSETFROM:+0100
TZOFFSETTO:+0200
TZNAME:CEST
DTSTART:19930328T010000
END:DAYLIGHT
BEGIN:STANDARD
TZOFFSETFROM:+0200
TZOFFSETTO:+0100
TZNAME:CET
DTSTART:19930926T010000
END:STANDARD
END:VTIMEZONE
BEGIN:VEVENT
DTSTART;TZID=Europe/Paris:19920525T200000
DTEND;TZID=Europe/Paris:19920525T200000
DTSTAMP:20260421T104738
CREATED:20190806T125418Z
LAST-MODIFIED:20251120T160911Z
UID:2049-706824000-706824000@aspekte-salzburg.com
SUMMARY:Konzert III
DESCRIPTION:Programm\nGuillermo Graetzer\, Quinteto (1983)\nfür Flöte\, Klarinette\, Violine\, Violoncello und Klavier \nCarlos Roque Alsina\, Unity op. 31 (1973)\nfür Klarinette und Violoncello \nMario Davidovsky\, Biblical Songs (1990)\nfür Sopran\, Flöte\, Klarinette\, Violine\, Violoncello und Klavier \nJosé Luis Campana\, Auszug „Circoli Viziosi” (1991) Voruraufführung\nVersion für fünf Instrumente; 1. Satz \nCarlos Grätzer\, Alquima (1983)\nfür Violoncello und Klavier \nCarlos Roque Alsina\, Passages (1990)\nfür Sopran\, Flöte\, Klarinette\, Violine\, Violoncello und Klavier \n  \nMitwirkende\nEnsemble Kaleidocollage \nGerda hartmann\, Sopran \nGilles Burgos\, Flöte \nJean-Louis Bergerard\, Klarinette \nNicole Tamestit\, Violine \nDavid Simpson\, Violoncello \nUrsula Kneihs\, Klavier
URL:https://aspekte-salzburg.com/konzert/konzert-iii-14/
LOCATION:Großes Studio\, Universität Mozarteum\, Mirabellplatz 1\, Salzburg\, 5020
END:VEVENT
END:VCALENDAR