BEGIN:VCALENDAR
VERSION:2.0
PRODID:-//aspekte SALZBURG - ECPv6.15.14//NONSGML v1.0//EN
CALSCALE:GREGORIAN
METHOD:PUBLISH
X-WR-CALNAME:aspekte SALZBURG
X-ORIGINAL-URL:https://aspekte-salzburg.com
X-WR-CALDESC:Veranstaltungen für aspekte SALZBURG
REFRESH-INTERVAL;VALUE=DURATION:PT1H
X-Robots-Tag:noindex
X-PUBLISHED-TTL:PT1H
BEGIN:VTIMEZONE
TZID:Europe/Paris
BEGIN:DAYLIGHT
TZOFFSETFROM:+0100
TZOFFSETTO:+0200
TZNAME:CEST
DTSTART:19900325T010000
END:DAYLIGHT
BEGIN:STANDARD
TZOFFSETFROM:+0200
TZOFFSETTO:+0100
TZNAME:CET
DTSTART:19900930T010000
END:STANDARD
BEGIN:DAYLIGHT
TZOFFSETFROM:+0100
TZOFFSETTO:+0200
TZNAME:CEST
DTSTART:19910331T010000
END:DAYLIGHT
BEGIN:STANDARD
TZOFFSETFROM:+0200
TZOFFSETTO:+0100
TZNAME:CET
DTSTART:19910929T010000
END:STANDARD
BEGIN:DAYLIGHT
TZOFFSETFROM:+0100
TZOFFSETTO:+0200
TZNAME:CEST
DTSTART:19920329T010000
END:DAYLIGHT
BEGIN:STANDARD
TZOFFSETFROM:+0200
TZOFFSETTO:+0100
TZNAME:CET
DTSTART:19920927T010000
END:STANDARD
END:VTIMEZONE
BEGIN:VEVENT
DTSTART;TZID=Europe/Paris:19910603T200000
DTEND;TZID=Europe/Paris:19910603T200000
DTSTAMP:20260421T120038
CREATED:20190808T060715Z
LAST-MODIFIED:20251120T161016Z
UID:2081-675979200-675979200@aspekte-salzburg.com
SUMMARY:Konzert III
DESCRIPTION:Programm\nJohn Cage\, Amores (1943)\nfür präpariertes Klavier und Schlagzeugtrio \nJohanna M. beyer\, IV (1935)\nfür neun Schlaginstrumente \nJames Tenney\, Wake for Charles Ives \nJames Tenney\, Crystal Canon for Edgar Varese \nKyle Gann\, Snake Dance \nJohn Cage\, In a Landscape (1948)\nfür Klavier oder Harfe \nLou Harrison\, Fugue \nJohn Kennedy\, Chant \nJohn Cage\, Inlets (1977)\nfür vier Ausführende mit Muscheln\, die z.T mit Wasser gefüllt sind und ein Feuer\, live oder aufgenommen \n  \nMitwirkende\nEnsemble Essential Music \nJudith Gordon\, Klavier \nMaya Gunji\, Schlagzeug \nJohn Kennedy\, Schlagzeug \nEric Kivnick\, Schlagzeug \nCharles Wood\, Schlagzeug
URL:https://aspekte-salzburg.com/konzert/konzert-iii-15/
LOCATION:Großes Studio\, Universität Mozarteum\, Mirabellplatz 1\, Salzburg\, 5020
END:VEVENT
END:VCALENDAR