BEGIN:VCALENDAR
VERSION:2.0
PRODID:-//aspekte SALZBURG - ECPv6.15.14//NONSGML v1.0//EN
CALSCALE:GREGORIAN
METHOD:PUBLISH
X-WR-CALNAME:aspekte SALZBURG
X-ORIGINAL-URL:https://aspekte-salzburg.com
X-WR-CALDESC:Veranstaltungen für aspekte SALZBURG
REFRESH-INTERVAL;VALUE=DURATION:PT1H
X-Robots-Tag:noindex
X-PUBLISHED-TTL:PT1H
BEGIN:VTIMEZONE
TZID:Europe/Paris
BEGIN:DAYLIGHT
TZOFFSETFROM:+0100
TZOFFSETTO:+0200
TZNAME:CEST
DTSTART:19880327T010000
END:DAYLIGHT
BEGIN:STANDARD
TZOFFSETFROM:+0200
TZOFFSETTO:+0100
TZNAME:CET
DTSTART:19880925T010000
END:STANDARD
BEGIN:DAYLIGHT
TZOFFSETFROM:+0100
TZOFFSETTO:+0200
TZNAME:CEST
DTSTART:19890326T010000
END:DAYLIGHT
BEGIN:STANDARD
TZOFFSETFROM:+0200
TZOFFSETTO:+0100
TZNAME:CET
DTSTART:19890924T010000
END:STANDARD
BEGIN:DAYLIGHT
TZOFFSETFROM:+0100
TZOFFSETTO:+0200
TZNAME:CEST
DTSTART:19900325T010000
END:DAYLIGHT
BEGIN:STANDARD
TZOFFSETFROM:+0200
TZOFFSETTO:+0100
TZNAME:CET
DTSTART:19900930T010000
END:STANDARD
END:VTIMEZONE
BEGIN:VEVENT
DTSTART;TZID=Europe/Paris:19890430T200000
DTEND;TZID=Europe/Paris:19890430T200000
DTSTAMP:20260421T104646
CREATED:20190812T114130Z
LAST-MODIFIED:20251120T161211Z
UID:2148-609969600-609969600@aspekte-salzburg.com
SUMMARY:Konzert III
DESCRIPTION:Programm\nLuciano Chailly\, Recitativo e fuga\nfür Streichtrio\nRecitativo (lento e solenne)\nFuga (allegro moderato) \nGiorgio Ferrari\, Streichtrio (1955)\nAllegro deciso\nAdagio molto\nLento\nVivace \nGiacomo Bellucci\, Pinch Quartett\nfür Streichquartett und Gitarre (1987\, UA) \nAndrea Mannucci\, Dedica\nfür Streichquartett und Gitarre (1989\, UA) \n  \nMitwirkende\nQuintetto Virgiliano\nGiovanni Grano\, Gitarre\nPaolo Ghidono\, Violine\nCarlo Cantini\, Violine\nDanilo Rossi\, Viola\nZoltan Szábó\, Violoncello \n 
URL:https://aspekte-salzburg.com/konzert/konzert-iii-17/
LOCATION:Künstlerhaus\, Hellbrunner Str. 3\, Salzburg\, 5020
END:VEVENT
END:VCALENDAR