BEGIN:VCALENDAR
VERSION:2.0
PRODID:-//aspekte SALZBURG - ECPv6.15.14//NONSGML v1.0//EN
CALSCALE:GREGORIAN
METHOD:PUBLISH
X-WR-CALNAME:aspekte SALZBURG
X-ORIGINAL-URL:https://aspekte-salzburg.com
X-WR-CALDESC:Veranstaltungen für aspekte SALZBURG
REFRESH-INTERVAL;VALUE=DURATION:PT1H
X-Robots-Tag:noindex
X-PUBLISHED-TTL:PT1H
BEGIN:VTIMEZONE
TZID:Europe/Paris
BEGIN:DAYLIGHT
TZOFFSETFROM:+0100
TZOFFSETTO:+0200
TZNAME:CEST
DTSTART:19840325T010000
END:DAYLIGHT
BEGIN:STANDARD
TZOFFSETFROM:+0200
TZOFFSETTO:+0100
TZNAME:CET
DTSTART:19840930T010000
END:STANDARD
BEGIN:DAYLIGHT
TZOFFSETFROM:+0100
TZOFFSETTO:+0200
TZNAME:CEST
DTSTART:19850331T010000
END:DAYLIGHT
BEGIN:STANDARD
TZOFFSETFROM:+0200
TZOFFSETTO:+0100
TZNAME:CET
DTSTART:19850929T010000
END:STANDARD
BEGIN:DAYLIGHT
TZOFFSETFROM:+0100
TZOFFSETTO:+0200
TZNAME:CEST
DTSTART:19860330T010000
END:DAYLIGHT
BEGIN:STANDARD
TZOFFSETFROM:+0200
TZOFFSETTO:+0100
TZNAME:CET
DTSTART:19860928T010000
END:STANDARD
END:VTIMEZONE
BEGIN:VEVENT
DTSTART;TZID=Europe/Paris:19850512T110000
DTEND;TZID=Europe/Paris:19850512T170000
DTSTAMP:20260421T104654
CREATED:20190816T102128Z
LAST-MODIFIED:20251120T161533Z
UID:2244-484743600-484765200@aspekte-salzburg.com
SUMMARY:Konzert III
DESCRIPTION:Programm\nIvan Wyschnegradsky\, Méditations sur deux thèmes de la Journée de l’existence\, op. 7 (1918)\nfür Violoncello und Klavier \nGiacinto Scelsi\, Ko Lho \nCharles Chaynes\, Lorsque Cecile chantait \nBetsy Jolas\, Fusain \nYannis Xenakis\, Mikka \nLean-Louis Petit\, La clé de l’eau (UA) \n  \nMitwirkende\nL’Atelier Musique De Ville D’avray \nJean-Louis Petit\, Leitung \nPatrice Bocquillon\, Flöte \nJean Max Dussert\, Klarinette \nMarie Christine Milliere\, Violine \nJacques di Donato\, Violoncello \nJulien Ridoret\, Klavier
URL:https://aspekte-salzburg.com/konzert/konzert-iii-20/
LOCATION:ORF Publikumsstudio\, Nonntaler Hauptstr. 49\, Salzburg\, 5020
END:VEVENT
END:VCALENDAR