BEGIN:VCALENDAR
VERSION:2.0
PRODID:-//aspekte SALZBURG - ECPv6.15.14//NONSGML v1.0//EN
CALSCALE:GREGORIAN
METHOD:PUBLISH
X-WR-CALNAME:aspekte SALZBURG
X-ORIGINAL-URL:https://aspekte-salzburg.com
X-WR-CALDESC:Veranstaltungen für aspekte SALZBURG
REFRESH-INTERVAL;VALUE=DURATION:PT1H
X-Robots-Tag:noindex
X-PUBLISHED-TTL:PT1H
BEGIN:VTIMEZONE
TZID:Europe/Paris
BEGIN:DAYLIGHT
TZOFFSETFROM:+0100
TZOFFSETTO:+0200
TZNAME:CEST
DTSTART:19770403T010000
END:DAYLIGHT
BEGIN:STANDARD
TZOFFSETFROM:+0200
TZOFFSETTO:+0100
TZNAME:CET
DTSTART:19770925T010000
END:STANDARD
BEGIN:DAYLIGHT
TZOFFSETFROM:+0100
TZOFFSETTO:+0200
TZNAME:CEST
DTSTART:19780402T010000
END:DAYLIGHT
BEGIN:STANDARD
TZOFFSETFROM:+0200
TZOFFSETTO:+0100
TZNAME:CET
DTSTART:19781001T010000
END:STANDARD
BEGIN:DAYLIGHT
TZOFFSETFROM:+0100
TZOFFSETTO:+0200
TZNAME:CEST
DTSTART:19790401T010000
END:DAYLIGHT
BEGIN:STANDARD
TZOFFSETFROM:+0200
TZOFFSETTO:+0100
TZNAME:CET
DTSTART:19790930T010000
END:STANDARD
END:VTIMEZONE
BEGIN:VEVENT
DTSTART;TZID=Europe/Paris:19780526T190000
DTEND;TZID=Europe/Paris:19780526T190000
DTSTAMP:20260421T104738
CREATED:20190828T081046Z
LAST-MODIFIED:20251120T152354Z
UID:2408-265057200-265057200@aspekte-salzburg.com
SUMMARY:Konzert III
DESCRIPTION:Programm\nMichel Zbar\, Négatif/Positif \nYoshihisa Taira\, Luisances \nFrancois Bousch\, Points de suspension \nTristan Murail\, Les Nuages de Magellan \n  \nMitwirkende\nEnsemble d’Instruments Electroniques de l’Itnéraire \nTristan Murail\, Ondes Martenot/Orgel/Synthesizer EMS \nFrancoise Pellié\, Ondes Martenot/ String Ensemble \nFrancois Bousch\, elektr. Gitarre\, Synthesizer Farfisa \nJean-Guillaume Cattin\, Schlagzeug/verstärktes Schlagzeug
URL:https://aspekte-salzburg.com/konzert/konzert-iii-26/
LOCATION:Petersbrunnhof\, Erzabt-Klotz-Str. 22\, Salzburg\, 5020
END:VEVENT
END:VCALENDAR