BEGIN:VCALENDAR
VERSION:2.0
PRODID:-//aspekte SALZBURG - ECPv6.15.14//NONSGML v1.0//EN
CALSCALE:GREGORIAN
METHOD:PUBLISH
X-WR-CALNAME:aspekte SALZBURG
X-ORIGINAL-URL:https://aspekte-salzburg.com
X-WR-CALDESC:Veranstaltungen für aspekte SALZBURG
REFRESH-INTERVAL;VALUE=DURATION:PT1H
X-Robots-Tag:noindex
X-PUBLISHED-TTL:PT1H
BEGIN:VTIMEZONE
TZID:Europe/Paris
BEGIN:DAYLIGHT
TZOFFSETFROM:+0100
TZOFFSETTO:+0200
TZNAME:CEST
DTSTART:20030330T010000
END:DAYLIGHT
BEGIN:STANDARD
TZOFFSETFROM:+0200
TZOFFSETTO:+0100
TZNAME:CET
DTSTART:20031026T010000
END:STANDARD
BEGIN:DAYLIGHT
TZOFFSETFROM:+0100
TZOFFSETTO:+0200
TZNAME:CEST
DTSTART:20040328T010000
END:DAYLIGHT
BEGIN:STANDARD
TZOFFSETFROM:+0200
TZOFFSETTO:+0100
TZNAME:CET
DTSTART:20041031T010000
END:STANDARD
BEGIN:DAYLIGHT
TZOFFSETFROM:+0100
TZOFFSETTO:+0200
TZNAME:CEST
DTSTART:20050327T010000
END:DAYLIGHT
BEGIN:STANDARD
TZOFFSETFROM:+0200
TZOFFSETTO:+0100
TZNAME:CET
DTSTART:20051030T010000
END:STANDARD
END:VTIMEZONE
BEGIN:VEVENT
DTSTART;TZID=Europe/Paris:20040227T190000
DTEND;TZID=Europe/Paris:20040227T190000
DTSTAMP:20260421T104603
CREATED:20190724T112452Z
LAST-MODIFIED:20251120T155925Z
UID:1758-1077908400-1077908400@aspekte-salzburg.com
SUMMARY:Konzert III
DESCRIPTION:Programm \nAlicia Terzian (1934)\, Argentine to death \nGuillermo Graetzer (1914-1993)\, Tankas \nAlicia Terzian\, Les yeux fertiles \nJuan Jose Castro (1895-1968)\, Lloron \nAlejandro Iglesias Rossi (1960)\, Llorando silencios \nIrma Urtega (1929)\, Existenciales \nJukka Tienssuu (1948)\, Tango Lunar \nAlicia Terzian\, An Argentine in Europe \nAlberto Ginastera (1916-1983)\, Triste \nAstor Piazzola (1921-1994)\, Verano porteño \nDaniel Binelli (1944)\, Llamando de tambores \nAlicia Terzian\, If I had a heart \n  \nMitwirkende \nEnsemble Encuentros\nAlicia Terzian\, Leitung\nMarta Blanco\, Mezzosopran\nGabriel Sorin\, Flöte\nEduardo Ihdohype\, Klarinette\nSergio Polizzi\, Violine\nCarlos Nozzi\, Cello\nClaudio Espector\, Piano\nMario Tenreyro\, Horn\nArauco Yepes\, Percussion \nGerhard Peilstein\, Sprecher
URL:https://aspekte-salzburg.com/konzert/konzert-iii-3/
LOCATION:SEAD\, Schallmoser Hauptstr. 48\, Salzburg\, 5020
END:VEVENT
END:VCALENDAR