BEGIN:VCALENDAR
VERSION:2.0
PRODID:-//aspekte SALZBURG - ECPv6.15.14//NONSGML v1.0//EN
CALSCALE:GREGORIAN
METHOD:PUBLISH
X-WR-CALNAME:aspekte SALZBURG
X-ORIGINAL-URL:https://aspekte-salzburg.com
X-WR-CALDESC:Veranstaltungen für aspekte SALZBURG
REFRESH-INTERVAL;VALUE=DURATION:PT1H
X-Robots-Tag:noindex
X-PUBLISHED-TTL:PT1H
BEGIN:VTIMEZONE
TZID:Europe/Paris
BEGIN:DAYLIGHT
TZOFFSETFROM:+0100
TZOFFSETTO:+0200
TZNAME:CEST
DTSTART:20010325T010000
END:DAYLIGHT
BEGIN:STANDARD
TZOFFSETFROM:+0200
TZOFFSETTO:+0100
TZNAME:CET
DTSTART:20011028T010000
END:STANDARD
BEGIN:DAYLIGHT
TZOFFSETFROM:+0100
TZOFFSETTO:+0200
TZNAME:CEST
DTSTART:20020331T010000
END:DAYLIGHT
BEGIN:STANDARD
TZOFFSETFROM:+0200
TZOFFSETTO:+0100
TZNAME:CET
DTSTART:20021027T010000
END:STANDARD
BEGIN:DAYLIGHT
TZOFFSETFROM:+0100
TZOFFSETTO:+0200
TZNAME:CEST
DTSTART:20030330T010000
END:DAYLIGHT
BEGIN:STANDARD
TZOFFSETFROM:+0200
TZOFFSETTO:+0100
TZNAME:CET
DTSTART:20031026T010000
END:STANDARD
END:VTIMEZONE
BEGIN:VEVENT
DTSTART;TZID=Europe/Paris:20020225T190000
DTEND;TZID=Europe/Paris:20020225T190000
DTSTAMP:20260421T115859
CREATED:20190725T075902Z
LAST-MODIFIED:20251120T160047Z
UID:1786-1014663600-1014663600@aspekte-salzburg.com
SUMMARY:Konzert III
DESCRIPTION:Programm\nGeorg Crumb\, Night of the four moons (1969)\nfür Viola\, Alt Flöte (Piccolo)\, electric Cello und Schlagzeug. Text basiert auf Fragmenten Federico Garcia Lorcas\nI. La luna está muerta\, muerta\nII. Cuando sale la luna\nIII. Otro Adán oscuro está soñando\nIV. ¡Huye luna\, luna\, una! \nGyörgy Kurtág\, 8 Klavierstücke (1960) \nAndor Losonczy\, 4 Klavierstücke (1959)\nPreludio\nScherzo\nKlagelied\nRezitativo \nYork Höller\, Antiphon (1976)\nfür Streichquartett und Tonband \nAndor Losonczy\, Wo sind die Knochen? (2001)\nPantomime nach einem Text von Gerhard Amanshauer \n  \nMitwirkende\noenm. österreichisches ensemble für neue musik \nFrank Stadler\, Violine\nMarianne Riehle\, Violine\nPredrag Katanic\, Viola\nPeter Sigl\, Violoncello\nIvo Jordanov\, Kontrabass\nVera Klug\, Flöte\nReinhold Malzer\, Oboe\nAndreas Schablas\, Klarinette\nFritz Kronthaler\, Klarinette\nSarko Perisic\, Fagott\nMarkus Hauser\, Horn\nHorst Hofer\, Trompete\nDusan Kranjic\, Posaune\nMichael Mitterlehner\, Schlagzeug\nPer Rundberg\, Klavier\nAndor Losonczy\, Klavier\nBijong Uk\, Dirigent
URL:https://aspekte-salzburg.com/konzert/konzert-iii-4/
LOCATION:SEAD\, Schallmoser Hauptstr. 48\, Salzburg\, 5020
END:VEVENT
END:VCALENDAR