BEGIN:VCALENDAR
VERSION:2.0
PRODID:-//aspekte SALZBURG - ECPv6.15.14//NONSGML v1.0//EN
CALSCALE:GREGORIAN
METHOD:PUBLISH
X-WR-CALNAME:aspekte SALZBURG
X-ORIGINAL-URL:https://aspekte-salzburg.com
X-WR-CALDESC:Veranstaltungen für aspekte SALZBURG
REFRESH-INTERVAL;VALUE=DURATION:PT1H
X-Robots-Tag:noindex
X-PUBLISHED-TTL:PT1H
BEGIN:VTIMEZONE
TZID:Europe/Paris
BEGIN:DAYLIGHT
TZOFFSETFROM:+0100
TZOFFSETTO:+0200
TZNAME:CEST
DTSTART:19980329T010000
END:DAYLIGHT
BEGIN:STANDARD
TZOFFSETFROM:+0200
TZOFFSETTO:+0100
TZNAME:CET
DTSTART:19981025T010000
END:STANDARD
BEGIN:DAYLIGHT
TZOFFSETFROM:+0100
TZOFFSETTO:+0200
TZNAME:CEST
DTSTART:19990328T010000
END:DAYLIGHT
BEGIN:STANDARD
TZOFFSETFROM:+0200
TZOFFSETTO:+0100
TZNAME:CET
DTSTART:19991031T010000
END:STANDARD
BEGIN:DAYLIGHT
TZOFFSETFROM:+0100
TZOFFSETTO:+0200
TZNAME:CEST
DTSTART:20000326T010000
END:DAYLIGHT
BEGIN:STANDARD
TZOFFSETFROM:+0200
TZOFFSETTO:+0100
TZNAME:CET
DTSTART:20001029T010000
END:STANDARD
END:VTIMEZONE
BEGIN:VEVENT
DTSTART;TZID=Europe/Paris:19990513T190000
DTEND;TZID=Europe/Paris:19990513T190000
DTSTAMP:20260421T104649
CREATED:20190729T113147Z
LAST-MODIFIED:20251120T160216Z
UID:1855-926622000-926622000@aspekte-salzburg.com
SUMMARY:Konzert III
DESCRIPTION:Programm\nWolfgang Roscher\, Nicht Angst – Not mine own fears (1976)\nSonett für Singstimme\, Flöte\, Klarinette\, Cello und Klavier nach Worten von W. Shakespeare und P. Celan \nMichael Edwards\, Flung me\, foot trod (1994)\nfür Altsaxophon und Tonband \nMario Rosivatz\, A2\nfür Kammerensemble (UA) \nWolfgang Rocher\, Vom Abgrund nämlich (1996)\nBruchstück für Sprechstimme\, Oboe\, Cello und Celesta nach einem Hymnenfragment von F. Hölderlin \nAlfred Maultasch\, Impression für Flöte\, Klarinette\, Violine und Klavier (UA) \nJuan G. Rodriguez\, Imagen de un suplicio\nfür Kammerensemble (UA) \nWolfgang Roscher\, Ricercar-Stimmen (1998)\nfür Sopran\, Trompete\, Klavier\, Vibraphon\, Marimbaphon und Streichquartett nach zwei Gedichten von P. Celan \n  \nMitwirkende\noenm. österreichisches ensemble für neue musik\nBrenda Mitchell\, Sopran\nMax Landgrebe\, Sprechstimme\nOswald Sallaberger\, Leitung
URL:https://aspekte-salzburg.com/konzert/konzert-iii-7/
LOCATION:Orchesterhaus\, Erzbischof-Gebhard-Straße 10\, Salzburg\, 5020
END:VEVENT
END:VCALENDAR