BEGIN:VCALENDAR
VERSION:2.0
PRODID:-//aspekte SALZBURG - ECPv6.15.14//NONSGML v1.0//EN
CALSCALE:GREGORIAN
METHOD:PUBLISH
X-WR-CALNAME:aspekte SALZBURG
X-ORIGINAL-URL:https://aspekte-salzburg.com
X-WR-CALDESC:Veranstaltungen für aspekte SALZBURG
REFRESH-INTERVAL;VALUE=DURATION:PT1H
X-Robots-Tag:noindex
X-PUBLISHED-TTL:PT1H
BEGIN:VTIMEZONE
TZID:Europe/Paris
BEGIN:DAYLIGHT
TZOFFSETFROM:+0100
TZOFFSETTO:+0200
TZNAME:CEST
DTSTART:19970330T010000
END:DAYLIGHT
BEGIN:STANDARD
TZOFFSETFROM:+0200
TZOFFSETTO:+0100
TZNAME:CET
DTSTART:19971026T010000
END:STANDARD
BEGIN:DAYLIGHT
TZOFFSETFROM:+0100
TZOFFSETTO:+0200
TZNAME:CEST
DTSTART:19980329T010000
END:DAYLIGHT
BEGIN:STANDARD
TZOFFSETFROM:+0200
TZOFFSETTO:+0100
TZNAME:CET
DTSTART:19981025T010000
END:STANDARD
BEGIN:DAYLIGHT
TZOFFSETFROM:+0100
TZOFFSETTO:+0200
TZNAME:CEST
DTSTART:19990328T010000
END:DAYLIGHT
BEGIN:STANDARD
TZOFFSETFROM:+0200
TZOFFSETTO:+0100
TZNAME:CET
DTSTART:19991031T010000
END:STANDARD
END:VTIMEZONE
BEGIN:VEVENT
DTSTART;TZID=Europe/Paris:19980524T200000
DTEND;TZID=Europe/Paris:19980524T200000
DTSTAMP:20260421T120011
CREATED:20190730T114954Z
LAST-MODIFIED:20251120T160310Z
UID:1878-896040000-896040000@aspekte-salzburg.com
SUMMARY:Konzert III
DESCRIPTION:Programm \nI-Chun Lee\, Two Movements for String Quartet \nI-Chin Hung\, Green Gully\nfür Sopran und Ensemble \nLing-Huei Tsai\, String Quartet \nHwang-Long Pan\, Transformation\nfür Ensemble \nHwang-Long Pan\, Ursache und Wirkung\nfür Flöte\, Violoncello und Klavier \nTzyy-Sheng Lee\, Twelve plus five (1993)\nfür Klavier\, Flöte und Klarinette \nAlfred Maultasch\, Libellensprünge\nfür Flöte Solo 1997 \nAndré Ruschkowski\, DOXA\nfür Perkussion und Tonband 1998 (UA) \nMichael Eduards\, pas de poule\, pas de pot (UA)\nfür Klarinette\, Violine\, Violoncello und Klavier \n  \nMitwirkende \noenm. österreichisches ensemble für neue musik
URL:https://aspekte-salzburg.com/konzert/konzert-iii-8/
LOCATION:Großes Studio\, Universität Mozarteum\, Mirabellplatz 1\, Salzburg\, 5020
END:VEVENT
END:VCALENDAR