BEGIN:VCALENDAR
VERSION:2.0
PRODID:-//aspekte SALZBURG - ECPv6.15.14//NONSGML v1.0//EN
CALSCALE:GREGORIAN
METHOD:PUBLISH
X-WR-CALNAME:aspekte SALZBURG
X-ORIGINAL-URL:https://aspekte-salzburg.com
X-WR-CALDESC:Veranstaltungen für aspekte SALZBURG
REFRESH-INTERVAL;VALUE=DURATION:PT1H
X-Robots-Tag:noindex
X-PUBLISHED-TTL:PT1H
BEGIN:VTIMEZONE
TZID:Europe/Paris
BEGIN:DAYLIGHT
TZOFFSETFROM:+0100
TZOFFSETTO:+0200
TZNAME:CEST
DTSTART:19960331T010000
END:DAYLIGHT
BEGIN:STANDARD
TZOFFSETFROM:+0200
TZOFFSETTO:+0100
TZNAME:CET
DTSTART:19961027T010000
END:STANDARD
BEGIN:DAYLIGHT
TZOFFSETFROM:+0100
TZOFFSETTO:+0200
TZNAME:CEST
DTSTART:19970330T010000
END:DAYLIGHT
BEGIN:STANDARD
TZOFFSETFROM:+0200
TZOFFSETTO:+0100
TZNAME:CET
DTSTART:19971026T010000
END:STANDARD
BEGIN:DAYLIGHT
TZOFFSETFROM:+0100
TZOFFSETTO:+0200
TZNAME:CEST
DTSTART:19980329T010000
END:DAYLIGHT
BEGIN:STANDARD
TZOFFSETFROM:+0200
TZOFFSETTO:+0100
TZNAME:CET
DTSTART:19981025T010000
END:STANDARD
END:VTIMEZONE
BEGIN:VEVENT
DTSTART;TZID=Europe/Paris:19970529T190000
DTEND;TZID=Europe/Paris:19970529T190000
DTSTAMP:20260421T104613
CREATED:20190731T074757Z
LAST-MODIFIED:20251120T160338Z
UID:1904-864932400-864932400@aspekte-salzburg.com
SUMMARY:Konzert III
DESCRIPTION:Programm\nNanos Tsangaris\, Tafel I (1989)\nfür 2 Spieler am Tisch\nRadio\, Walkmen\, Fadenorgel\, Taschenlampe\, etc. \nUsko Meriläinen\, Summer Sounds for Flute and Grasshoppers (1979) \nCarola Bauckholt\, In gewohnter Umgebung III (1994)\nfür Violoncello\, Cimbalom und Video \nTom Johnson\, Narayanas Kühe (1989)\nfür Erzähler und 3 Musiker \nMauricio Kagel\, Serenade (Österreichische Erstaufführung) \n  \nMitwirkende\nL’art pour l’art\nAstrid Schmeling\, Flöte\nMatthias Kaul\, Schlagzeug\nMichael Schröder\, Gitarre\nAnna Carewe\, Cello
URL:https://aspekte-salzburg.com/konzert/konzert-iii-9/
LOCATION:Großes Studio\, Universität Mozarteum\, Mirabellplatz 1\, Salzburg\, 5020
END:VEVENT
END:VCALENDAR