BEGIN:VCALENDAR
VERSION:2.0
PRODID:-//aspekte SALZBURG - ECPv6.15.14//NONSGML v1.0//EN
CALSCALE:GREGORIAN
METHOD:PUBLISH
X-WR-CALNAME:aspekte SALZBURG
X-ORIGINAL-URL:https://aspekte-salzburg.com
X-WR-CALDESC:Veranstaltungen für aspekte SALZBURG
REFRESH-INTERVAL;VALUE=DURATION:PT1H
X-Robots-Tag:noindex
X-PUBLISHED-TTL:PT1H
BEGIN:VTIMEZONE
TZID:Europe/Paris
BEGIN:DAYLIGHT
TZOFFSETFROM:+0100
TZOFFSETTO:+0200
TZNAME:CEST
DTSTART:20050327T010000
END:DAYLIGHT
BEGIN:STANDARD
TZOFFSETFROM:+0200
TZOFFSETTO:+0100
TZNAME:CET
DTSTART:20051030T010000
END:STANDARD
BEGIN:DAYLIGHT
TZOFFSETFROM:+0100
TZOFFSETTO:+0200
TZNAME:CEST
DTSTART:20060326T010000
END:DAYLIGHT
BEGIN:STANDARD
TZOFFSETFROM:+0200
TZOFFSETTO:+0100
TZNAME:CET
DTSTART:20061029T010000
END:STANDARD
BEGIN:DAYLIGHT
TZOFFSETFROM:+0100
TZOFFSETTO:+0200
TZNAME:CEST
DTSTART:20070325T010000
END:DAYLIGHT
BEGIN:STANDARD
TZOFFSETFROM:+0200
TZOFFSETTO:+0100
TZNAME:CET
DTSTART:20071028T010000
END:STANDARD
END:VTIMEZONE
BEGIN:VEVENT
DTSTART;TZID=Europe/Paris:20060207T190000
DTEND;TZID=Europe/Paris:20060207T190000
DTSTAMP:20260421T104819
CREATED:20190723T062116Z
LAST-MODIFIED:20251120T155801Z
UID:1681-1139338800-1139338800@aspekte-salzburg.com
SUMMARY:Konzert III | Plural Ensemble II
DESCRIPTION:Programm\nCésar Aliaj\, Zehn Miniaturen\nfür Flöte\, Klarinette\, Streichquartett und Klavier \nPascal Dusapin\, Etüden 2 und 4\nfür Klavier solo \nCarlos Perón\, Bitácora\nfür Flöte\, Klarinette\, Violine\, Cello und Klavier \nSalvatore Sciarrino\, Spazio Inverso\nfür Flöte\, Klarinette\, Violine\, Violoncello und Celesta \nSalvatore Sciarrino\, Per Matia\nfür Violine solo \nDavid del Puerto\, Dos dedicatorios\nfür Violine solo \nLuis de Pablo\, Metáforas\nfür Streichquartett und Klavier \n  \nMitwirkende\nPlural Ensemble\nAlicia Suescun\, Flöte\nCarmen Cano\, Klarinette\nEma Alexeeva\, Violine 1\nDobrochna Banaszkiewicz\, Violine 2\nAna Alonso\, Viola\nDavid Apellániz\, Violoncello\nAlberto Rosado\, Klavier \nFabian Panisello\, Leitung
URL:https://aspekte-salzburg.com/konzert/konzert-iii-plural-ensemble-ii/
LOCATION:Große Aula\, Universität Salzburg\, Hofstallgasse 2-4\, Salzburg\, 5020
END:VEVENT
END:VCALENDAR