BEGIN:VCALENDAR
VERSION:2.0
PRODID:-//aspekte SALZBURG - ECPv6.15.14//NONSGML v1.0//EN
CALSCALE:GREGORIAN
METHOD:PUBLISH
X-WR-CALNAME:aspekte SALZBURG
X-ORIGINAL-URL:https://aspekte-salzburg.com
X-WR-CALDESC:Veranstaltungen für aspekte SALZBURG
REFRESH-INTERVAL;VALUE=DURATION:PT1H
X-Robots-Tag:noindex
X-PUBLISHED-TTL:PT1H
BEGIN:VTIMEZONE
TZID:Europe/Paris
BEGIN:DAYLIGHT
TZOFFSETFROM:+0100
TZOFFSETTO:+0200
TZNAME:CEST
DTSTART:20040328T010000
END:DAYLIGHT
BEGIN:STANDARD
TZOFFSETFROM:+0200
TZOFFSETTO:+0100
TZNAME:CET
DTSTART:20041031T010000
END:STANDARD
BEGIN:DAYLIGHT
TZOFFSETFROM:+0100
TZOFFSETTO:+0200
TZNAME:CEST
DTSTART:20050327T010000
END:DAYLIGHT
BEGIN:STANDARD
TZOFFSETFROM:+0200
TZOFFSETTO:+0100
TZNAME:CET
DTSTART:20051030T010000
END:STANDARD
BEGIN:DAYLIGHT
TZOFFSETFROM:+0100
TZOFFSETTO:+0200
TZNAME:CEST
DTSTART:20060326T010000
END:DAYLIGHT
BEGIN:STANDARD
TZOFFSETFROM:+0200
TZOFFSETTO:+0100
TZNAME:CET
DTSTART:20061029T010000
END:STANDARD
END:VTIMEZONE
BEGIN:VEVENT
DTSTART;TZID=Europe/Paris:20050216T160000
DTEND;TZID=Europe/Paris:20050216T170000
DTSTAMP:20260421T104446
CREATED:20190723T121700Z
LAST-MODIFIED:20251120T155830Z
UID:1706-1108569600-1108573200@aspekte-salzburg.com
SUMMARY:Konzert III
DESCRIPTION:Programm\nTerry Riley\, Ritmos und Melos\nfür Violine\, Klavier und Percussion \nAndor Losonczy\, Magia\nfür Violine und Klavier (UA der Neufassung) \nAlfred Maultasch\, Streichquartett (UA) \nTerry Riley\, In C (1964) \n  \nMitwirkende\nLinda Wetherill\, Flöte\nRizumu Sugishita\, Schlagzeug\nTheodor Burkali\, Klarinette \nstadler quartet\nFrank Stadler\, Violine\nIzso Bajusz\, Violine\nPredrag Katanic\, Viola\nPeter Sigl\, Violoncello \nAndor Losonczy\, Klavier \nAspekte New Music Ensemble\nKai Röhrig\, Leitung
URL:https://aspekte-salzburg.com/konzert/konzert-iii/
LOCATION:SEAD\, Schallmoser Hauptstr. 48\, Salzburg\, 5020
END:VEVENT
END:VCALENDAR