BEGIN:VCALENDAR
VERSION:2.0
PRODID:-//aspekte SALZBURG - ECPv6.15.14//NONSGML v1.0//EN
CALSCALE:GREGORIAN
METHOD:PUBLISH
X-WR-CALNAME:aspekte SALZBURG
X-ORIGINAL-URL:https://aspekte-salzburg.com
X-WR-CALDESC:Veranstaltungen für aspekte SALZBURG
REFRESH-INTERVAL;VALUE=DURATION:PT1H
X-Robots-Tag:noindex
X-PUBLISHED-TTL:PT1H
BEGIN:VTIMEZONE
TZID:Europe/Paris
BEGIN:DAYLIGHT
TZOFFSETFROM:+0100
TZOFFSETTO:+0200
TZNAME:CEST
DTSTART:19940327T010000
END:DAYLIGHT
BEGIN:STANDARD
TZOFFSETFROM:+0200
TZOFFSETTO:+0100
TZNAME:CET
DTSTART:19940925T010000
END:STANDARD
BEGIN:DAYLIGHT
TZOFFSETFROM:+0100
TZOFFSETTO:+0200
TZNAME:CEST
DTSTART:19950326T010000
END:DAYLIGHT
BEGIN:STANDARD
TZOFFSETFROM:+0200
TZOFFSETTO:+0100
TZNAME:CET
DTSTART:19950924T010000
END:STANDARD
BEGIN:DAYLIGHT
TZOFFSETFROM:+0100
TZOFFSETTO:+0200
TZNAME:CEST
DTSTART:19960331T010000
END:DAYLIGHT
BEGIN:STANDARD
TZOFFSETFROM:+0200
TZOFFSETTO:+0100
TZNAME:CET
DTSTART:19961027T010000
END:STANDARD
END:VTIMEZONE
BEGIN:VEVENT
DTSTART;TZID=Europe/Paris:19950521T200000
DTEND;TZID=Europe/Paris:19950521T200000
DTSTAMP:20260421T104655
CREATED:20190805T070638Z
LAST-MODIFIED:20251120T160530Z
UID:1971-801086400-801086400@aspekte-salzburg.com
SUMMARY:Konzert IV
DESCRIPTION:Programm\nElliott Carter\, Scrivio in vento\nfür Flöte solo \nElliott Carter\, Inner Song\nfür Oboe solo \nHelmut Lachenmann\, Pression\nfür Violoncello solo \nElliott Carter\, Enchanted Preludes\nfür Flöte und Violoncello \nElliott Carter\, Canon for 3\nfür Flöte\, Oboe und Violoncello \n  \nMitwirkende\nNIEUW Ensemble Amsterdam\nBrenda Mitchell\, Sopran\nHarrie Starreveld\, Flöte\nErnest Rombout\, Oboe\nTaco Kooistra\, Violoncello\nMartin Derungs\, Cembalo\nEd Spanjaard\, Dirigent
URL:https://aspekte-salzburg.com/konzert/konzert-iv-10/
LOCATION:Großes Studio\, Universität Mozarteum\, Mirabellplatz 1\, Salzburg\, 5020
END:VEVENT
END:VCALENDAR